FILENAME: O4510622.SWS.1010455.tif
QUADRANGLE_NAME: ASHLAND NE
QUADRANT: SW
WEST_LONGITUDE: -106 22 30.00000
EAST_LONGITUDE: -106 18 45.00000
NORTH_LATITUDE: 45 41 15.00000
SOUTH_LATITUDE: 45 37 30.00000
PRODUCTION_DATE: 1999 6 9
RASTER_ORDER: LEFT_RIGHT/TOP_BOTTOM
BAND_ORGANIZATION: SINGLE FILE
BAND_CONTENT: BLACK&WHITE
BAND_CONTENT: UNDEFINED
BAND_CONTENT: UNDEFINED
BITS_PER_PIXEL: 8
SAMPLES_AND_LINES: 5633 7629
HORIZONTAL_DATUM: NAD83
HORIZONTAL_COORDINATE_SYSTEM: UTM
COORDINATE_ZONE: 13
HORIZONTAL_UNITS: METERS
HORIZONTAL_RESOLUTION: 1.00000
SECONDARY_HORIZONTAL_DATUM: NAD27
XY_ORIGIN: 392468.00000 5060548.00000
SECONDARY_XY_ORIGIN: 392509.23400 5060329.59300
NATION: US
NATION: "SCIENCE
STATE: MT
NW_QUAD_CORNER_XY: 392933.01400 5060246.90300
NE_QUAD_CORNER_XY: 397799.67500 5060165.21800
SE_QUAD_CORNERY_XY: 397685.90000 5053221.49800
SW_QUAD_CORNER_XY: 392813.81800 5053303.18700
SECONDARY_NW_QUAD_XY: 392929.80500 5060029.18000
SECONDARY_NE_QUAD_XY: 397796.61300 5059947.49200
SECONDARY_SE_QUAD_XY: 397682.83800 5053003.81900
SECONDARY_SW_QUAD_XY: 392810.61100 5053085.51000
RMSE_XY: 1.00000
IMAGE_SOURCE: BLACK AND WHITE FILM
SOURCE_IMAGE_ID: NAPP 9097 079
SOURCE_IMAGE_DATE: 1996 07 12
SOURCE_IMAGE_ID: NAPP 9102 085
SOURCE_IMAGE_DATE: 1996 07 14
SOURCE_IMAGE_ID: NAPP 10722 023
SOURCE_IMAGE_DATE: 1997 08 25
SOURCE_IMAGE_ID: NAPP 9097 027
SOURCE_IMAGE_DATE: 1996 07 12
SOURCE_DEM_DATE: 1987 00 00
AGENCY: WESTERN MAPPING CENTER (WMC)
PRODUCER: UNDEFINED
PRODUCTION_SYSTEM: GIS/MAGIC
COMPRESSION: UNDEFINED
STANDARD_VERSION: 1996 12
METADATA_DATE: 1999 06 14
DATA_FILE_SIZE: 42979790
BYTE_COUNT: 5633
