FILENAME: O4510621.NES.1010444.tif
QUADRANGLE_NAME: GARFIELD PEAK
QUADRANT: NE
WEST_LONGITUDE: -106 26 15.00000
EAST_LONGITUDE: -106 22 30.00000
NORTH_LATITUDE: 45 45 0.00000
SOUTH_LATITUDE: 45 41 15.00000
PRODUCTION_DATE: 1999 6 9
RASTER_ORDER: LEFT_RIGHT/TOP_BOTTOM
BAND_ORGANIZATION: SINGLE FILE
BAND_CONTENT: BLACK&WHITE
BAND_CONTENT: UNDEFINED
BAND_CONTENT: UNDEFINED
BITS_PER_PIXEL: 8
SAMPLES_AND_LINES: 5634 7633
HORIZONTAL_DATUM: NAD83
HORIZONTAL_COORDINATE_SYSTEM: UTM
COORDINATE_ZONE: 13
HORIZONTAL_UNITS: METERS
HORIZONTAL_RESOLUTION: 1.00000
SECONDARY_HORIZONTAL_DATUM: NAD27
XY_ORIGIN: 387720.00000 5067577.00000
SECONDARY_XY_ORIGIN: 387761.02700 5067358.54500
NATION: US
NATION: "SCIENCE
STATE: MT
NW_QUAD_CORNER_XY: 388191.10400 5067276.17200
NE_QUAD_CORNER_XY: 393052.33700 5067190.69100
SE_QUAD_CORNERY_XY: 392933.01400 5060246.90300
SW_QUAD_CORNER_XY: 388066.35500 5060332.38800
SECONDARY_NW_QUAD_XY: 388187.74900 5067058.40600
SECONDARY_NE_QUAD_XY: 393049.12800 5066972.92200
SECONDARY_SE_QUAD_XY: 392929.80500 5060029.18000
SECONDARY_SW_QUAD_XY: 388063.00100 5060114.66800
RMSE_XY: 2.10000
IMAGE_SOURCE: BLACK AND WHITE FILM
SOURCE_IMAGE_ID: NAPP 9106 232
SOURCE_IMAGE_DATE: 1996 08 07
SOURCE_IMAGE_ID: NAPP 9115 161
SOURCE_IMAGE_DATE: 1996 09 10
SOURCE_IMAGE_ID: NAPP 9115 160
SOURCE_IMAGE_DATE: 1996 09 10
SOURCE_IMAGE_ID: NAPP 9106 231
SOURCE_IMAGE_DATE: 1996 08 07
SOURCE_IMAGE_ID: NAPP 9122 032
SOURCE_IMAGE_DATE: 1996 09 11
SOURCE_DEM_DATE: 1987 00 00
AGENCY: WESTERN MAPPING CENTER (WMC)
PRODUCER: UNDEFINED
PRODUCTION_SYSTEM: GIS/MAGIC
COMPRESSION: UNDEFINED
STANDARD_VERSION: 1996 12
METADATA_DATE: 1999 06 14
DATA_FILE_SIZE: 43009956
BYTE_COUNT: 5634
