FILENAME: O4510621.SWS.1010447.tif
QUADRANGLE_NAME: GARFIELD PEAK
QUADRANT: SW
WEST_LONGITUDE: -106 30 0.00000
EAST_LONGITUDE: -106 26 15.00000
NORTH_LATITUDE: 45 41 15.00000
SOUTH_LATITUDE: 45 37 30.00000
PRODUCTION_DATE: 1999 6 9
RASTER_ORDER: LEFT_RIGHT/TOP_BOTTOM
BAND_ORGANIZATION: SINGLE FILE
BAND_CONTENT: BLACK&WHITE
BAND_CONTENT: UNDEFINED
BAND_CONTENT: UNDEFINED
BITS_PER_PIXEL: 8
SAMPLES_AND_LINES: 5645 7637
HORIZONTAL_DATUM: NAD83
HORIZONTAL_COORDINATE_SYSTEM: UTM
COORDINATE_ZONE: 13
HORIZONTAL_UNITS: METERS
HORIZONTAL_RESOLUTION: 1.00000
SECONDARY_HORIZONTAL_DATUM: NAD27
XY_ORIGIN: 382723.00000 5060723.00000
SECONDARY_XY_ORIGIN: 382764.30800 5060504.76100
NATION: US
NATION: "SCIENCE
STATE: MT
NW_QUAD_CORNER_XY: 383199.69900 5060421.67500
NE_QUAD_CORNER_XY: 388066.35500 5060332.38800
SE_QUAD_CORNERY_XY: 387941.74000 5053388.67600
SW_QUAD_CORNER_XY: 383069.66400 5053477.96700
SECONDARY_NW_QUAD_XY: 383196.19900 5060203.95700
SECONDARY_NE_QUAD_XY: 388063.00100 5060114.66800
SECONDARY_SE_QUAD_XY: 387938.38700 5053171.00200
SECONDARY_SW_QUAD_XY: 383066.16500 5053260.29600
RMSE_XY: 2.10000
IMAGE_SOURCE: BLACK AND WHITE FILM
SOURCE_IMAGE_ID: NAPP 9115 163
SOURCE_IMAGE_DATE: 1996 09 10
SOURCE_IMAGE_ID: NAPP 9115 164
SOURCE_IMAGE_DATE: 1996 09 10
SOURCE_IMAGE_ID: NAPP 9115 162
SOURCE_IMAGE_DATE: 1996 09 10
SOURCE_IMAGE_ID: NAPP 9106 231
SOURCE_IMAGE_DATE: 1996 08 07
SOURCE_DEM_DATE: 1987 00 00
AGENCY: WESTERN MAPPING CENTER (WMC)
PRODUCER: UNDEFINED
PRODUCTION_SYSTEM: GIS/MAGIC
COMPRESSION: UNDEFINED
STANDARD_VERSION: 1996 12
METADATA_DATE: 1999 06 14
DATA_FILE_SIZE: 43116510
BYTE_COUNT: 5645
