FILENAME: O4510618.NES.1010397.tif
QUADRANGLE_NAME: BLACK SPRING
QUADRANT: NE
WEST_LONGITUDE: -106 48 45.00000
EAST_LONGITUDE: -106 45 0.00000
NORTH_LATITUDE: 45 45 0.00000
SOUTH_LATITUDE: 45 41 15.00000
PRODUCTION_DATE: 1999 6 1
RASTER_ORDER: LEFT_RIGHT/TOP_BOTTOM
BAND_ORGANIZATION: SINGLE FILE
BAND_CONTENT: BLACK&WHITE
BAND_CONTENT: UNDEFINED
BAND_CONTENT: UNDEFINED
BITS_PER_PIXEL: 8
SAMPLES_AND_LINES: 5667 7655
HORIZONTAL_DATUM: NAD83
HORIZONTAL_COORDINATE_SYSTEM: UTM
COORDINATE_ZONE: 13
HORIZONTAL_UNITS: METERS
HORIZONTAL_RESOLUTION: 1.00000
SECONDARY_HORIZONTAL_DATUM: NAD27
XY_ORIGIN: 358519.00000 5068169.00000
SECONDARY_XY_ORIGIN: 358560.60900 5067951.20400
NATION: US
NATION: "SCIENCE
STATE: MT
NW_QUAD_CORNER_XY: 359023.78300 5067868.88200
NE_QUAD_CORNER_XY: 363884.99300 5067760.59300
SE_QUAD_CORNERY_XY: 363733.11000 5060816.83400
SW_QUAD_CORNER_XY: 358866.47100 5060925.12900
SECONDARY_NW_QUAD_XY: 359019.55300 5067651.13300
SECONDARY_NE_QUAD_XY: 363880.90900 5067542.84100
SECONDARY_SE_QUAD_XY: 363729.02700 5060599.12800
SECONDARY_SW_QUAD_XY: 358862.24200 5060707.42600
RMSE_XY: 1.50000
IMAGE_SOURCE: BLACK AND WHITE FILM
SOURCE_IMAGE_ID: NAPP 9115 071
SOURCE_IMAGE_DATE: 1996 09 10
SOURCE_IMAGE_ID: NAPP 9115 038
SOURCE_IMAGE_DATE: 1996 09 10
SOURCE_IMAGE_ID: NAPP 9115 040
SOURCE_IMAGE_DATE: 1996 09 10
SOURCE_IMAGE_ID: NAPP 9115 072
SOURCE_IMAGE_DATE: 1996 09 10
SOURCE_IMAGE_ID: NAPP 9115 070
SOURCE_IMAGE_DATE: 1996 09 10
SOURCE_DEM_DATE: 1987 00 00
AGENCY: WESTERN MAPPING CENTER (WMC)
PRODUCER: UNDEFINED
PRODUCTION_SYSTEM: GIS/MAGIC
COMPRESSION: UNDEFINED
STANDARD_VERSION: 1996 12
METADATA_DATE: 1999 06 14
DATA_FILE_SIZE: 43386552
BYTE_COUNT: 5667
