FILENAME: O4510618.NWS.1010398.tif
QUADRANGLE_NAME: BLACK SPRING
QUADRANT: NW
WEST_LONGITUDE: -106 52 30.00000
EAST_LONGITUDE: -106 48 45.00000
NORTH_LATITUDE: 45 45 0.00000
SOUTH_LATITUDE: 45 41 15.00000
PRODUCTION_DATE: 1999 6 1
RASTER_ORDER: LEFT_RIGHT/TOP_BOTTOM
BAND_ORGANIZATION: SINGLE FILE
BAND_CONTENT: BLACK&WHITE
BAND_CONTENT: UNDEFINED
BAND_CONTENT: UNDEFINED
BITS_PER_PIXEL: 8
SAMPLES_AND_LINES: 5673 7658
HORIZONTAL_DATUM: NAD83
HORIZONTAL_COORDINATE_SYSTEM: UTM
COORDINATE_ZONE: 13
HORIZONTAL_UNITS: METERS
HORIZONTAL_RESOLUTION: 1.00000
SECONDARY_HORIZONTAL_DATUM: NAD27
XY_ORIGIN: 353652.00000 5068281.00000
SECONDARY_XY_ORIGIN: 353693.68900 5068063.29400
NATION: US
NATION: "SCIENCE
STATE: MT
NW_QUAD_CORNER_XY: 354162.57600 5067980.97300
NE_QUAD_CORNER_XY: 359023.78300 5067868.88200
SE_QUAD_CORNERY_XY: 358866.47100 5060925.12900
SW_QUAD_CORNER_XY: 353999.83700 5061037.22600
SECONDARY_NW_QUAD_XY: 354158.20000 5067763.22700
SECONDARY_NE_QUAD_XY: 359019.55300 5067651.13300
SECONDARY_SE_QUAD_XY: 358862.24200 5060707.42600
SECONDARY_SW_QUAD_XY: 353995.46200 5060819.52600
RMSE_XY: 2.60000
IMAGE_SOURCE: BLACK AND WHITE FILM
SOURCE_IMAGE_ID: NAPP 9115 039
SOURCE_IMAGE_DATE: 1996 09 10
SOURCE_IMAGE_ID: NAPP 9085 164
SOURCE_IMAGE_DATE: 1996 06 13
SOURCE_IMAGE_ID: NAPP 9115 038
SOURCE_IMAGE_DATE: 1996 09 10
SOURCE_IMAGE_ID: NAPP 9115 040
SOURCE_IMAGE_DATE: 1996 09 10
SOURCE_DEM_DATE: 1987 00 00
AGENCY: WESTERN MAPPING CENTER (WMC)
PRODUCER: UNDEFINED
PRODUCTION_SYSTEM: GIS/MAGIC
COMPRESSION: UNDEFINED
STANDARD_VERSION: 1996 12
METADATA_DATE: 1999 06 14
DATA_FILE_SIZE: 43449507
BYTE_COUNT: 5673
