FILENAME: O4510618.SES.1010399.tif
QUADRANGLE_NAME: BLACK SPRING
QUADRANT: SE
WEST_LONGITUDE: -106 48 45.00000
EAST_LONGITUDE: -106 45 0.00000
NORTH_LATITUDE: 45 41 15.00000
SOUTH_LATITUDE: 45 37 30.00000
PRODUCTION_DATE: 1999 6 1
RASTER_ORDER: LEFT_RIGHT/TOP_BOTTOM
BAND_ORGANIZATION: SINGLE FILE
BAND_CONTENT: BLACK&WHITE
BAND_CONTENT: UNDEFINED
BAND_CONTENT: UNDEFINED
BITS_PER_PIXEL: 8
SAMPLES_AND_LINES: 5674 7655
HORIZONTAL_DATUM: NAD83
HORIZONTAL_COORDINATE_SYSTEM: UTM
COORDINATE_ZONE: 13
HORIZONTAL_UNITS: METERS
HORIZONTAL_RESOLUTION: 1.00000
SECONDARY_HORIZONTAL_DATUM: NAD27
XY_ORIGIN: 358361.00000 5061226.00000
SECONDARY_XY_ORIGIN: 358402.90200 5061008.39200
NATION: US
NATION: "SCIENCE
STATE: MT
NW_QUAD_CORNER_XY: 358866.47100 5060925.12900
NE_QUAD_CORNER_XY: 363733.11000 5060816.83400
SE_QUAD_CORNERY_XY: 363581.38900 5053873.14500
SW_QUAD_CORNER_XY: 358709.32900 5053981.44500
SECONDARY_NW_QUAD_XY: 358862.24200 5060707.42600
SECONDARY_NE_QUAD_XY: 363729.02700 5060599.12800
SECONDARY_SE_QUAD_XY: 363577.30700 5053655.48600
SECONDARY_SW_QUAD_XY: 358705.10100 5053763.78800
RMSE_XY: 1.50000
IMAGE_SOURCE: BLACK AND WHITE FILM
SOURCE_IMAGE_ID: NAPP 9115 073
SOURCE_IMAGE_DATE: 1996 09 10
SOURCE_IMAGE_ID: NAPP 9115 036
SOURCE_IMAGE_DATE: 1996 09 10
SOURCE_IMAGE_ID: NAPP 9115 038
SOURCE_IMAGE_DATE: 1996 09 10
SOURCE_IMAGE_ID: NAPP 9115 074
SOURCE_IMAGE_DATE: 1996 09 10
SOURCE_IMAGE_ID: NAPP 9115 072
SOURCE_IMAGE_DATE: 1996 09 10
SOURCE_DEM_DATE: 1987 00 00
AGENCY: WESTERN MAPPING CENTER (WMC)
PRODUCER: UNDEFINED
PRODUCTION_SYSTEM: GIS/MAGIC
COMPRESSION: UNDEFINED
STANDARD_VERSION: 1996 12
METADATA_DATE: 1999 06 14
DATA_FILE_SIZE: 43440144
BYTE_COUNT: 5674
