FILENAME: O4510617.SES.1010387.tif
QUADRANGLE_NAME: CHALKY POINT
QUADRANT: SE
WEST_LONGITUDE: -106 56 15.00000
EAST_LONGITUDE: -106 52 30.00000
NORTH_LATITUDE: 45 41 15.00000
SOUTH_LATITUDE: 45 37 30.00000
PRODUCTION_DATE: 1999 6 1
RASTER_ORDER: LEFT_RIGHT/TOP_BOTTOM
BAND_ORGANIZATION: SINGLE FILE
BAND_CONTENT: BLACK&WHITE
BAND_CONTENT: UNDEFINED
BAND_CONTENT: UNDEFINED
BITS_PER_PIXEL: 8
SAMPLES_AND_LINES: 5684 7663
HORIZONTAL_DATUM: NAD83
HORIZONTAL_COORDINATE_SYSTEM: UTM
COORDINATE_ZONE: 13
HORIZONTAL_UNITS: METERS
HORIZONTAL_RESOLUTION: 1.00000
SECONDARY_HORIZONTAL_DATUM: NAD27
XY_ORIGIN: 348617.00000 5061454.00000
SECONDARY_XY_ORIGIN: 348659.09700 5061236.60100
NATION: US
NATION: "SCIENCE
STATE: MT
NW_QUAD_CORNER_XY: 349133.20600 5061153.12500
NE_QUAD_CORNER_XY: 353999.83700 5061037.22600
SE_QUAD_CORNERY_XY: 353837.27200 5054093.54700
SW_QUAD_CORNER_XY: 348965.21800 5054209.45200
SECONDARY_NW_QUAD_XY: 349128.68500 5060935.42900
SECONDARY_NE_QUAD_XY: 353995.46200 5060819.52600
SECONDARY_SE_QUAD_XY: 353832.89800 5053875.89400
SECONDARY_SW_QUAD_XY: 348960.69900 5053991.80200
RMSE_XY: 3.90000
IMAGE_SOURCE: BLACK AND WHITE FILM
SOURCE_IMAGE_ID: NAPP 9115 038
SOURCE_IMAGE_DATE: 1996 09 10
SOURCE_IMAGE_ID: NAPP 9099 034
SOURCE_IMAGE_DATE: 1996 07 14
SOURCE_IMAGE_ID: NAPP 9085 168
SOURCE_IMAGE_DATE: 1996 06 13
SOURCE_IMAGE_ID: NAPP 9085 166
SOURCE_IMAGE_DATE: 1996 06 13
SOURCE_IMAGE_ID: NAPP 9115 037
SOURCE_IMAGE_DATE: 1996 09 10
SOURCE_DEM_DATE: 1987 00 00
AGENCY: WESTERN MAPPING CENTER (WMC)
PRODUCER: UNDEFINED
PRODUCTION_SYSTEM: GIS/MAGIC
COMPRESSION: UNDEFINED
STANDARD_VERSION: 1996 12
METADATA_DATE: 1999 06 14
DATA_FILE_SIZE: 43562176
BYTE_COUNT: 5684
