FILENAME: O4510613.SES.1010645.tif
QUADRANGLE_NAME: HAMMOND DRAW SW
QUADRANT: SE
WEST_LONGITUDE: -106 26 15.00000
EAST_LONGITUDE: -106 22 30.00000
NORTH_LATITUDE: 45 48 45.00000
SOUTH_LATITUDE: 45 45 0.00000
PRODUCTION_DATE: 1999 6 4
RASTER_ORDER: LEFT_RIGHT/TOP_BOTTOM
BAND_ORGANIZATION: SINGLE FILE
BAND_CONTENT: BLACK&WHITE
BAND_CONTENT: UNDEFINED
BAND_CONTENT: UNDEFINED
BITS_PER_PIXEL: 8
SAMPLES_AND_LINES: 5628 7633
HORIZONTAL_DATUM: NAD83
HORIZONTAL_COORDINATE_SYSTEM: UTM
COORDINATE_ZONE: 13
HORIZONTAL_UNITS: METERS
HORIZONTAL_RESOLUTION: 1.00000
SECONDARY_HORIZONTAL_DATUM: NAD27
XY_ORIGIN: 387845.00000 5074521.00000
SECONDARY_XY_ORIGIN: 387886.03600 5074302.54500
NATION: US
NATION: "SCIENCE
STATE: MT
NW_QUAD_CORNER_XY: 388315.98700 5074220.02700
NE_QUAD_CORNER_XY: 393171.78800 5074134.55100
SE_QUAD_CORNERY_XY: 393052.33700 5067190.69100
SW_QUAD_CORNER_XY: 388191.10400 5067276.17200
SECONDARY_NW_QUAD_XY: 388312.63200 5074002.21600
SECONDARY_NE_QUAD_XY: 393168.57900 5073916.73700
SECONDARY_SE_QUAD_XY: 393049.12800 5066972.92200
SECONDARY_SW_QUAD_XY: 388187.74900 5067058.40600
RMSE_XY: 1.30000
IMAGE_SOURCE: BLACK AND WHITE FILM
SOURCE_IMAGE_ID: NAPP 9122 033
SOURCE_IMAGE_DATE: 1996 09 11
SOURCE_IMAGE_ID: NAPP 9115 158
SOURCE_IMAGE_DATE: 1996 09 10
SOURCE_IMAGE_ID: NAPP 9106 232
SOURCE_IMAGE_DATE: 1996 08 07
SOURCE_DEM_DATE: 1970 00 00
AGENCY: WESTERN MAPPING CENTER (WMC)
PRODUCER: UNDEFINED
PRODUCTION_SYSTEM: GIS/MAGIC
COMPRESSION: UNDEFINED
STANDARD_VERSION: 1996 12
METADATA_DATE: 1999 06 07
DATA_FILE_SIZE: 42964152
BYTE_COUNT: 5628
