FILENAME: O4510612.NES.1010639.tif
QUADRANGLE_NAME: COLSTRIP SE
QUADRANT: NE
WEST_LONGITUDE: -106 33 45.00000
EAST_LONGITUDE: -106 30 0.00000
NORTH_LATITUDE: 45 52 30.00000
SOUTH_LATITUDE: 45 48 45.00000
PRODUCTION_DATE: 1999 5 24
RASTER_ORDER: LEFT_RIGHT/TOP_BOTTOM
BAND_ORGANIZATION: SINGLE FILE
BAND_CONTENT: BLACK&WHITE
BAND_CONTENT: UNDEFINED
BAND_CONTENT: UNDEFINED
BITS_PER_PIXEL: 8
SAMPLES_AND_LINES: 5634 7640
HORIZONTAL_DATUM: NAD83
HORIZONTAL_COORDINATE_SYSTEM: UTM
COORDINATE_ZONE: 13
HORIZONTAL_UNITS: METERS
HORIZONTAL_RESOLUTION: 1.00000
SECONDARY_HORIZONTAL_DATUM: NAD27
XY_ORIGIN: 378258.00000 5081647.00000
SECONDARY_XY_ORIGIN: 378299.21700 5081428.70100
NATION: US
NATION: "SCIENCE
STATE: MT
NW_QUAD_CORNER_XY: 378740.29000 5081346.29700
NE_QUAD_CORNER_XY: 383590.64500 5081253.22500
SE_QUAD_CORNERY_XY: 383460.19000 5074309.30400
SW_QUAD_CORNER_XY: 378604.39700 5074402.38200
SECONDARY_NW_QUAD_XY: 378736.64100 5081128.44700
SECONDARY_NE_QUAD_XY: 383587.14300 5081035.37200
SECONDARY_SE_QUAD_XY: 383456.68900 5074091.49500
SECONDARY_SW_QUAD_XY: 378600.74900 5074184.57600
RMSE_XY: 1.60000
IMAGE_SOURCE: BLACK AND WHITE FILM
SOURCE_IMAGE_ID: NAPP 9110 037
SOURCE_IMAGE_DATE: 1996 08 11
SOURCE_IMAGE_ID: NAPP 9110 243
SOURCE_IMAGE_DATE: 1996 08 11
SOURCE_IMAGE_ID: NAPP 9110 036
SOURCE_IMAGE_DATE: 1996 08 11
SOURCE_IMAGE_ID: NAPP 9110 038
SOURCE_IMAGE_DATE: 1996 08 11
SOURCE_DEM_DATE: 1997 01 01
AGENCY: WESTERN MAPPING CENTER (WMC)
PRODUCER: UNDEFINED
PRODUCTION_SYSTEM: GIS/MAGIC
COMPRESSION: UNDEFINED
STANDARD_VERSION: 1996 12
METADATA_DATE: 1999 06 07
DATA_FILE_SIZE: 43049394
BYTE_COUNT: 5634
