FILENAME: O4510612.SES.1010641.tif
QUADRANGLE_NAME: COLSTRIP SE
QUADRANT: SE
WEST_LONGITUDE: -106 33 45.00000
EAST_LONGITUDE: -106 30 0.00000
NORTH_LATITUDE: 45 48 45.00000
SOUTH_LATITUDE: 45 45 0.00000
PRODUCTION_DATE: 1999 5 24
RASTER_ORDER: LEFT_RIGHT/TOP_BOTTOM
BAND_ORGANIZATION: SINGLE FILE
BAND_CONTENT: BLACK&WHITE
BAND_CONTENT: UNDEFINED
BAND_CONTENT: UNDEFINED
BITS_PER_PIXEL: 8
SAMPLES_AND_LINES: 5640 7640
HORIZONTAL_DATUM: NAD83
HORIZONTAL_COORDINATE_SYSTEM: UTM
COORDINATE_ZONE: 13
HORIZONTAL_UNITS: METERS
HORIZONTAL_RESOLUTION: 1.00000
SECONDARY_HORIZONTAL_DATUM: NAD27
XY_ORIGIN: 378122.00000 5074703.00000
SECONDARY_XY_ORIGIN: 378163.20100 5074484.73000
NATION: US
NATION: "SCIENCE
STATE: MT
NW_QUAD_CORNER_XY: 378604.39700 5074402.38200
NE_QUAD_CORNER_XY: 383460.19000 5074309.30400
SE_QUAD_CORNERY_XY: 383329.87500 5067365.45400
SW_QUAD_CORNER_XY: 378468.64900 5067458.53700
SECONDARY_NW_QUAD_XY: 378600.74900 5074184.57600
SECONDARY_NE_QUAD_XY: 383456.68900 5074091.49500
SECONDARY_SE_QUAD_XY: 383326.37400 5067147.69000
SECONDARY_SW_QUAD_XY: 378465.00200 5067240.77600
RMSE_XY: 2.20000
IMAGE_SOURCE: BLACK AND WHITE FILM
SOURCE_IMAGE_ID: NAPP 9110 035
SOURCE_IMAGE_DATE: 1996 08 11
SOURCE_IMAGE_ID: NAPP 9110 243
SOURCE_IMAGE_DATE: 1996 08 11
SOURCE_IMAGE_ID: NAPP 9110 034
SOURCE_IMAGE_DATE: 1996 08 11
SOURCE_IMAGE_ID: NAPP 9110 036
SOURCE_IMAGE_DATE: 1996 08 11
SOURCE_DEM_DATE: 1997 01 01
AGENCY: WESTERN MAPPING CENTER (WMC)
PRODUCER: UNDEFINED
PRODUCTION_SYSTEM: GIS/MAGIC
COMPRESSION: UNDEFINED
STANDARD_VERSION: 1996 12
METADATA_DATE: 1999 06 07
DATA_FILE_SIZE: 43095240
BYTE_COUNT: 5640
