FILENAME: O4510612.SWS.1010642.tif
QUADRANGLE_NAME: COLSTRIP SE
QUADRANT: SW
WEST_LONGITUDE: -106 37 30.00000
EAST_LONGITUDE: -106 33 45.00000
NORTH_LATITUDE: 45 48 45.00000
SOUTH_LATITUDE: 45 45 0.00000
PRODUCTION_DATE: 1999 6 4
RASTER_ORDER: LEFT_RIGHT/TOP_BOTTOM
BAND_ORGANIZATION: SINGLE FILE
BAND_CONTENT: BLACK&WHITE
BAND_CONTENT: UNDEFINED
BAND_CONTENT: UNDEFINED
BITS_PER_PIXEL: 8
SAMPLES_AND_LINES: 5645 7644
HORIZONTAL_DATUM: NAD83
HORIZONTAL_COORDINATE_SYSTEM: UTM
COORDINATE_ZONE: 13
HORIZONTAL_UNITS: METERS
HORIZONTAL_RESOLUTION: 1.00000
SECONDARY_HORIZONTAL_DATUM: NAD27
XY_ORIGIN: 373261.00000 5074800.00000
SECONDARY_XY_ORIGIN: 373302.31600 5074581.83900
NATION: US
NATION: "SCIENCE
STATE: MT
NW_QUAD_CORNER_XY: 373748.60700 5074499.26000
NE_QUAD_CORNER_XY: 378604.39700 5074402.38200
SE_QUAD_CORNERY_XY: 378468.64900 5067458.53700
SW_QUAD_CORNER_XY: 373607.42700 5067555.42100
SECONDARY_NW_QUAD_XY: 373744.81400 5074281.45700
SECONDARY_NE_QUAD_XY: 378600.74900 5074184.57600
SECONDARY_SE_QUAD_XY: 378465.00200 5067240.77600
SECONDARY_SW_QUAD_XY: 373603.63400 5067337.66300
RMSE_XY: 1.00000
IMAGE_SOURCE: BLACK AND WHITE FILM
SOURCE_IMAGE_ID: NAPP 9110 244
SOURCE_IMAGE_DATE: 1996 08 11
SOURCE_IMAGE_ID: NAPP 9111 052
SOURCE_IMAGE_DATE: 1996 08 11
SOURCE_IMAGE_ID: NAPP 9111 054
SOURCE_IMAGE_DATE: 1996 08 11
SOURCE_IMAGE_ID: NAPP 9110 245
SOURCE_IMAGE_DATE: 1996 08 11
SOURCE_IMAGE_ID: NAPP 9110 243
SOURCE_IMAGE_DATE: 1996 08 11
SOURCE_DEM_DATE: 1997 01 01
AGENCY: WESTERN MAPPING CENTER (WMC)
PRODUCER: UNDEFINED
PRODUCTION_SYSTEM: GIS/MAGIC
COMPRESSION: UNDEFINED
STANDARD_VERSION: 1996 12
METADATA_DATE: 1999 06 07
DATA_FILE_SIZE: 43156025
BYTE_COUNT: 5645
