FILENAME: O4510610.NWS.1010628.tif
QUADRANGLE_NAME: ROUGH DRAW
QUADRANT: NW
WEST_LONGITUDE: -106 52 30.00000
EAST_LONGITUDE: -106 48 45.00000
NORTH_LATITUDE: 45 52 30.00000
SOUTH_LATITUDE: 45 48 45.00000
PRODUCTION_DATE: 1999 6 4
RASTER_ORDER: LEFT_RIGHT/TOP_BOTTOM
BAND_ORGANIZATION: SINGLE FILE
BAND_CONTENT: BLACK&WHITE
BAND_CONTENT: UNDEFINED
BAND_CONTENT: UNDEFINED
BITS_PER_PIXEL: 8
SAMPLES_AND_LINES: 5662 7659
HORIZONTAL_DATUM: NAD83
HORIZONTAL_COORDINATE_SYSTEM: UTM
COORDINATE_ZONE: 13
HORIZONTAL_UNITS: METERS
HORIZONTAL_RESOLUTION: 1.00000
SECONDARY_HORIZONTAL_DATUM: NAD27
XY_ORIGIN: 353978.00000 5082169.00000
SECONDARY_XY_ORIGIN: 354019.73000 5081951.13300
NATION: US
NATION: "SCIENCE
STATE: MT
NW_QUAD_CORNER_XY: 354488.58000 5081868.67100
NE_QUAD_CORNER_XY: 359338.91200 5081756.59300
SE_QUAD_CORNERY_XY: 359181.26300 5074812.70300
SW_QUAD_CORNER_XY: 354325.49100 5074924.78800
SECONDARY_NW_QUAD_XY: 354484.20100 5081650.83700
SECONDARY_NE_QUAD_XY: 359334.68000 5081538.75600
SECONDARY_SE_QUAD_XY: 359177.03200 5074594.91000
SECONDARY_SW_QUAD_XY: 354321.11400 5074706.99700
RMSE_XY: 3.60000
IMAGE_SOURCE: BLACK AND WHITE FILM
SOURCE_IMAGE_ID: NAPP 9115 044
SOURCE_IMAGE_DATE: 1996 09 10
SOURCE_IMAGE_ID: NAPP 9085 162
SOURCE_IMAGE_DATE: 1996 06 13
SOURCE_IMAGE_ID: NAPP 9085 160
SOURCE_IMAGE_DATE: 1996 06 13
SOURCE_IMAGE_ID: NAPP 9115 041
SOURCE_IMAGE_DATE: 1996 09 10
SOURCE_IMAGE_ID: NAPP 9115 042
SOURCE_IMAGE_DATE: 1996 09 10
SOURCE_DEM_DATE: 1997 01 01
AGENCY: WESTERN MAPPING CENTER (WMC)
PRODUCER: UNDEFINED
PRODUCTION_SYSTEM: GIS/MAGIC
COMPRESSION: UNDEFINED
STANDARD_VERSION: 1996 12
METADATA_DATE: 1999 06 07
DATA_FILE_SIZE: 43370920
BYTE_COUNT: 5662
