FILENAME: O4510606.NWS.1010733.tif
QUADRANGLE_NAME: JOHN HEN CREEK
QUADRANT: NW
WEST_LONGITUDE: -106 22 30.00000
EAST_LONGITUDE: -106 18 45.00000
NORTH_LATITUDE: 46 0 0.00000
SOUTH_LATITUDE: 45 56 15.00000
PRODUCTION_DATE: 1999 6 4
RASTER_ORDER: LEFT_RIGHT/TOP_BOTTOM
BAND_ORGANIZATION: SINGLE FILE
BAND_CONTENT: BLACK&WHITE
BAND_CONTENT: UNDEFINED
BAND_CONTENT: UNDEFINED
BITS_PER_PIXEL: 8
SAMPLES_AND_LINES: 5607 7630
HORIZONTAL_DATUM: NAD83
HORIZONTAL_COORDINATE_SYSTEM: UTM
COORDINATE_ZONE: 13
HORIZONTAL_UNITS: METERS
HORIZONTAL_RESOLUTION: 1.00000
SECONDARY_HORIZONTAL_DATUM: NAD27
XY_ORIGIN: 393065.00000 5095268.00000
SECONDARY_XY_ORIGIN: 393105.98000 5095049.48500
NATION: US
NATION: "SCIENCE
STATE: MT
NW_QUAD_CORNER_XY: 393530.91000 5094966.56200
NE_QUAD_CORNER_XY: 398370.38500 5094884.90300
SE_QUAD_CORNERY_XY: 398255.99900 5087940.82100
SW_QUAD_CORNER_XY: 393411.07500 5088022.48700
SECONDARY_NW_QUAD_XY: 393527.69800 5094748.61900
SECONDARY_NE_QUAD_XY: 398367.31900 5094666.95600
SECONDARY_SE_QUAD_XY: 398252.93400 5087722.91700
SECONDARY_SW_QUAD_XY: 393407.86400 5087804.58500
RMSE_XY: 1.30000
IMAGE_SOURCE: BLACK AND WHITE FILM
SOURCE_IMAGE_ID: NAPP 9102 081
SOURCE_IMAGE_DATE: 1996 07 14
SOURCE_IMAGE_ID: NAPP 9106 239
SOURCE_IMAGE_DATE: 1996 08 07
SOURCE_IMAGE_ID: NAPP 9102 082
SOURCE_IMAGE_DATE: 1996 07 14
SOURCE_DEM_DATE: 1970 00 00
AGENCY: WESTERN MAPPING CENTER (WMC)
PRODUCER: UNDEFINED
PRODUCTION_SYSTEM: GIS/MAGIC
COMPRESSION: UNDEFINED
STANDARD_VERSION: 1996 12
METADATA_DATE: 1999 06 09
DATA_FILE_SIZE: 42787017
BYTE_COUNT: 5607
