FILENAME: O4510606.SWS.1010735.tif
QUADRANGLE_NAME: JOHN HEN CREEK
QUADRANT: SW
WEST_LONGITUDE: -106 22 30.00000
EAST_LONGITUDE: -106 18 45.00000
NORTH_LATITUDE: 45 56 15.00000
SOUTH_LATITUDE: 45 52 30.00000
PRODUCTION_DATE: 1999 6 4
RASTER_ORDER: LEFT_RIGHT/TOP_BOTTOM
BAND_ORGANIZATION: SINGLE FILE
BAND_CONTENT: BLACK&WHITE
BAND_CONTENT: UNDEFINED
BAND_CONTENT: UNDEFINED
BITS_PER_PIXEL: 8
SAMPLES_AND_LINES: 5611 7630
HORIZONTAL_DATUM: NAD83
HORIZONTAL_COORDINATE_SYSTEM: UTM
COORDINATE_ZONE: 13
HORIZONTAL_UNITS: METERS
HORIZONTAL_RESOLUTION: 1.00000
SECONDARY_HORIZONTAL_DATUM: NAD27
XY_ORIGIN: 392946.00000 5088324.00000
SECONDARY_XY_ORIGIN: 392986.98600 5088105.48000
NATION: US
NATION: "SCIENCE
STATE: MT
NW_QUAD_CORNER_XY: 393411.07500 5088022.48700
NE_QUAD_CORNER_XY: 398255.99900 5087940.82100
SE_QUAD_CORNERY_XY: 398141.73500 5080996.81200
SW_QUAD_CORNER_XY: 393291.36800 5081078.48300
SECONDARY_NW_QUAD_XY: 393407.86400 5087804.58500
SECONDARY_NE_QUAD_XY: 398252.93400 5087722.91700
SECONDARY_SE_QUAD_XY: 398138.67000 5080778.95100
SECONDARY_SW_QUAD_XY: 393288.15700 5080860.62500
RMSE_XY: 1.40000
IMAGE_SOURCE: BLACK AND WHITE FILM
SOURCE_IMAGE_ID: NAPP 9102 083
SOURCE_IMAGE_DATE: 1996 07 14
SOURCE_IMAGE_ID: NAPP 9102 082
SOURCE_IMAGE_DATE: 1996 07 14
SOURCE_IMAGE_ID: NAPP 9102 081
SOURCE_IMAGE_DATE: 1996 07 14
SOURCE_DEM_DATE: 1970 00 00
AGENCY: WESTERN MAPPING CENTER (WMC)
PRODUCER: UNDEFINED
PRODUCTION_SYSTEM: GIS/MAGIC
COMPRESSION: UNDEFINED
STANDARD_VERSION: 1996 12
METADATA_DATE: 1999 06 09
DATA_FILE_SIZE: 42817541
BYTE_COUNT: 5611
