FILENAME: O4510605.SWS.1010723.tif
QUADRANGLE_NAME: HAMMOND DRAW NW
QUADRANT: SW
WEST_LONGITUDE: -106 30 0.00000
EAST_LONGITUDE: -106 26 15.00000
NORTH_LATITUDE: 45 56 15.00000
SOUTH_LATITUDE: 45 52 30.00000
PRODUCTION_DATE: 1999 6 2
RASTER_ORDER: LEFT_RIGHT/TOP_BOTTOM
BAND_ORGANIZATION: SINGLE FILE
BAND_CONTENT: BLACK&WHITE
BAND_CONTENT: UNDEFINED
BAND_CONTENT: UNDEFINED
BITS_PER_PIXEL: 8
SAMPLES_AND_LINES: 5623 7637
HORIZONTAL_DATUM: NAD83
HORIZONTAL_COORDINATE_SYSTEM: UTM
COORDINATE_ZONE: 13
HORIZONTAL_UNITS: METERS
HORIZONTAL_RESOLUTION: 1.00000
SECONDARY_HORIZONTAL_DATUM: NAD27
XY_ORIGIN: 383245.00000 5088498.00000
SECONDARY_XY_ORIGIN: 383286.11300 5088279.58500
NATION: US
NATION: "SCIENCE
STATE: MT
NW_QUAD_CORNER_XY: 383721.23900 5088197.21700
NE_QUAD_CORNER_XY: 388566.15500 5088107.95200
SE_QUAD_CORNERY_XY: 388441.00500 5081163.95400
SW_QUAD_CORNER_XY: 383590.64500 5081253.22500
SECONDARY_NW_QUAD_XY: 383717.73600 5087979.32100
SECONDARY_NE_QUAD_XY: 388562.79800 5087890.05300
SECONDARY_SE_QUAD_XY: 388437.64800 5080946.09800
SECONDARY_SW_QUAD_XY: 383587.14300 5081035.37200
RMSE_XY: 1.60000
IMAGE_SOURCE: BLACK AND WHITE FILM
SOURCE_IMAGE_ID: NAPP 9115 155
SOURCE_IMAGE_DATE: 1996 09 10
SOURCE_IMAGE_ID: NAPP 9115 156
SOURCE_IMAGE_DATE: 1996 09 10
SOURCE_DEM_DATE: 1970 00 00
AGENCY: WESTERN MAPPING CENTER (WMC)
PRODUCER: UNDEFINED
PRODUCTION_SYSTEM: GIS/MAGIC
COMPRESSION: UNDEFINED
STANDARD_VERSION: 1996 12
METADATA_DATE: 1999 06 09
DATA_FILE_SIZE: 42948474
BYTE_COUNT: 5623
