FILENAME: O4510604.NES.1010707.tif
QUADRANGLE_NAME: COLSTRIP EAST
QUADRANT: NE
WEST_LONGITUDE: -106 33 45.00000
EAST_LONGITUDE: -106 30 0.00000
NORTH_LATITUDE: 46 0 0.00000
SOUTH_LATITUDE: 45 56 15.00000
PRODUCTION_DATE: 1999 6 2
RASTER_ORDER: LEFT_RIGHT/TOP_BOTTOM
BAND_ORGANIZATION: SINGLE FILE
BAND_CONTENT: BLACK&WHITE
BAND_CONTENT: UNDEFINED
BAND_CONTENT: UNDEFINED
BITS_PER_PIXEL: 8
SAMPLES_AND_LINES: 5623 7640
HORIZONTAL_DATUM: NAD83
HORIZONTAL_COORDINATE_SYSTEM: UTM
COORDINATE_ZONE: 13
HORIZONTAL_UNITS: METERS
HORIZONTAL_RESOLUTION: 1.00000
SECONDARY_HORIZONTAL_DATUM: NAD27
XY_ORIGIN: 378530.00000 5095535.00000
SECONDARY_XY_ORIGIN: 378571.24800 5095316.64600
NATION: US
NATION: "SCIENCE
STATE: MT
NW_QUAD_CORNER_XY: 379012.51100 5095234.34000
NE_QUAD_CORNER_XY: 383851.97300 5095141.28100
SE_QUAD_CORNERY_XY: 383721.23900 5088197.21700
SW_QUAD_CORNER_XY: 378876.32800 5088290.28300
SECONDARY_NW_QUAD_XY: 379008.86100 5095016.40400
SECONDARY_NE_QUAD_XY: 383848.46900 5094923.34200
SECONDARY_SE_QUAD_XY: 383717.73600 5087979.32100
SECONDARY_SW_QUAD_XY: 378872.67900 5088072.39000
RMSE_XY: 2.50000
IMAGE_SOURCE: BLACK AND WHITE FILM
SOURCE_IMAGE_ID: NAPP 9110 041
SOURCE_IMAGE_DATE: 1996 08 11
SOURCE_IMAGE_ID: NAPP 9110 040
SOURCE_IMAGE_DATE: 1996 08 11
SOURCE_DEM_DATE: 1988 00 00
AGENCY: WESTERN MAPPING CENTER (WMC)
PRODUCER: UNDEFINED
PRODUCTION_SYSTEM: GIS/MAGIC
COMPRESSION: UNDEFINED
STANDARD_VERSION: 1996 12
METADATA_DATE: 1999 06 09
DATA_FILE_SIZE: 42965343
BYTE_COUNT: 5623
