FILENAME: O4510601.NES.1010683.tif
QUADRANGLE_NAME: MCCLURE CREEK
QUADRANT: NE
WEST_LONGITUDE: -106 56 15.00000
EAST_LONGITUDE: -106 52 30.00000
NORTH_LATITUDE: 46 0 0.00000
SOUTH_LATITUDE: 45 56 15.00000
PRODUCTION_DATE: 1999 6 2
RASTER_ORDER: LEFT_RIGHT/TOP_BOTTOM
BAND_ORGANIZATION: SINGLE FILE
BAND_CONTENT: BLACK&WHITE
BAND_CONTENT: UNDEFINED
BAND_CONTENT: UNDEFINED
BITS_PER_PIXEL: 8
SAMPLES_AND_LINES: 5658 7663
HORIZONTAL_DATUM: NAD83
HORIZONTAL_COORDINATE_SYSTEM: UTM
COORDINATE_ZONE: 13
HORIZONTAL_UNITS: METERS
HORIZONTAL_RESOLUTION: 1.00000
SECONDARY_HORIZONTAL_DATUM: NAD27
XY_ORIGIN: 349459.00000 5096173.00000
SECONDARY_XY_ORIGIN: 349500.86200 5095955.02900
NATION: US
NATION: "SCIENCE
STATE: MT
NW_QUAD_CORNER_XY: 349975.85000 5095872.50500
NE_QUAD_CORNER_XY: 354815.28000 5095756.64200
SE_QUAD_CORNERY_XY: 354651.84300 5088812.62200
SW_QUAD_CORNER_XY: 349806.96100 5088928.49400
SECONDARY_NW_QUAD_XY: 349971.32400 5095654.58900
SECONDARY_NE_QUAD_XY: 354810.90000 5095538.72200
SECONDARY_SE_QUAD_XY: 354647.46300 5088594.74500
SECONDARY_SW_QUAD_XY: 349802.43600 5088710.62000
RMSE_XY: 0.90000
IMAGE_SOURCE: BLACK AND WHITE FILM
SOURCE_IMAGE_ID: NAPP 9085 157
SOURCE_IMAGE_DATE: 1996 06 13
SOURCE_DEM_DATE: 1997 00 00
AGENCY: WESTERN MAPPING CENTER (WMC)
PRODUCER: UNDEFINED
PRODUCTION_SYSTEM: GIS/MAGIC
COMPRESSION: UNDEFINED
STANDARD_VERSION: 1996 12
METADATA_DATE: 1999 06 09
DATA_FILE_SIZE: 43362912
BYTE_COUNT: 5658
