FILENAME: O4510764.NES.1010780.tif
QUADRANGLE_NAME: BAR V RANCH
QUADRANT: NE
WEST_LONGITUDE: -107 3 45.00000
EAST_LONGITUDE: -107 0 0.00000
NORTH_LATITUDE: 45 7 30.00000
SOUTH_LATITUDE: 45 3 45.00000
PRODUCTION_DATE: 1999 6 14
RASTER_ORDER: LEFT_RIGHT/TOP_BOTTOM
BAND_ORGANIZATION: SINGLE FILE
BAND_CONTENT: BLACK&WHITE
BAND_CONTENT: UNDEFINED
BAND_CONTENT: UNDEFINED
BITS_PER_PIXEL: 8
SAMPLES_AND_LINES: 5745 7671
HORIZONTAL_DATUM: NAD83
HORIZONTAL_COORDINATE_SYSTEM: UTM
COORDINATE_ZONE: 13
HORIZONTAL_UNITS: METERS
HORIZONTAL_RESOLUTION: 1.00000
SECONDARY_HORIZONTAL_DATUM: NAD27
XY_ORIGIN: 337269.00000 4999206.00000
SECONDARY_XY_ORIGIN: 337313.89000 4998990.61800
NATION: US
NATION: "SCIENCE
STATE: MT
NW_QUAD_CORNER_XY: 337797.39400 4998905.76900
NE_QUAD_CORNER_XY: 342712.61800 4998782.23200
SE_QUAD_CORNERY_XY: 342540.89500 4991839.16800
SW_QUAD_CORNER_XY: 337620.29900 4991962.70600
SECONDARY_NW_QUAD_XY: 337792.59300 4998688.53000
SECONDARY_NE_QUAD_XY: 342707.96300 4998564.99000
SECONDARY_SE_QUAD_XY: 342536.24000 4991621.98000
SECONDARY_SW_QUAD_XY: 337615.50000 4991745.52100
RMSE_XY: 1.50000
IMAGE_SOURCE: BLACK AND WHITE FILM
SOURCE_IMAGE_ID: NAPP 9099 156
SOURCE_IMAGE_DATE: 1996 07 14
SOURCE_IMAGE_ID: NAPP 9099 157
SOURCE_IMAGE_DATE: 1996 07 14
SOURCE_IMAGE_ID: NAPP 9099 155
SOURCE_IMAGE_DATE: 1996 07 14
SOURCE_IMAGE_ID: NAPP 9099 016
SOURCE_IMAGE_DATE: 1996 07 14
SOURCE_IMAGE_ID: NAPP 9099 018
SOURCE_IMAGE_DATE: 1996 07 14
SOURCE_DEM_DATE: 1966 00 00
AGENCY: WESTERN MAPPING CENTER (WMC)
PRODUCER: UNDEFINED
PRODUCTION_SYSTEM: GIS/MAGIC
COMPRESSION: UNDEFINED
STANDARD_VERSION: 1996 12
METADATA_DATE: 1999 06 15
DATA_FILE_SIZE: 44075640
BYTE_COUNT: 5745
