FILENAME: O4510764.SWS.1010783.tif
QUADRANGLE_NAME: BAR V RANCH
QUADRANT: SW
WEST_LONGITUDE: -107 7 30.00000
EAST_LONGITUDE: -107 3 45.00000
NORTH_LATITUDE: 45 3 45.00000
SOUTH_LATITUDE: 45 0 0.00000
PRODUCTION_DATE: 1999 6 11
RASTER_ORDER: LEFT_RIGHT/TOP_BOTTOM
BAND_ORGANIZATION: SINGLE FILE
BAND_CONTENT: BLACK&WHITE
BAND_CONTENT: UNDEFINED
BAND_CONTENT: UNDEFINED
BITS_PER_PIXEL: 8
SAMPLES_AND_LINES: 5756 7676
HORIZONTAL_DATUM: NAD83
HORIZONTAL_COORDINATE_SYSTEM: UTM
COORDINATE_ZONE: 13
HORIZONTAL_UNITS: METERS
HORIZONTAL_RESOLUTION: 1.00000
SECONDARY_HORIZONTAL_DATUM: NAD27
XY_ORIGIN: 332166.00000 4992391.00000
SECONDARY_XY_ORIGIN: 332211.04000 4992175.77700
NATION: US
NATION: "SCIENCE
STATE: MT
NW_QUAD_CORNER_XY: 332699.70400 4992090.04800
NE_QUAD_CORNER_XY: 337620.29900 4991962.70600
SE_QUAD_CORNERY_XY: 337443.39900 4985019.70900
SW_QUAD_CORNER_XY: 332517.43900 4985147.05100
SECONDARY_NW_QUAD_XY: 332694.75900 4991872.86700
SECONDARY_NE_QUAD_XY: 337615.50000 4991745.52100
SECONDARY_SE_QUAD_XY: 337438.60100 4984802.57900
SECONDARY_SW_QUAD_XY: 332512.49500 4984929.92500
RMSE_XY: 1.20000
IMAGE_SOURCE: BLACK AND WHITE FILM
SOURCE_IMAGE_ID: NAPP 9099 169
SOURCE_IMAGE_DATE: 1996 07 14
SOURCE_IMAGE_ID: NAPP 9099 168
SOURCE_IMAGE_DATE: 1996 07 14
SOURCE_IMAGE_ID: NAPP 9099 170
SOURCE_IMAGE_DATE: 1996 07 14
SOURCE_DEM_DATE: 1966 00 00
AGENCY: WESTERN MAPPING CENTER (WMC)
PRODUCER: UNDEFINED
PRODUCTION_SYSTEM: GIS/MAGIC
COMPRESSION: UNDEFINED
STANDARD_VERSION: 1996 12
METADATA_DATE: 1999 06 15
DATA_FILE_SIZE: 44188812
BYTE_COUNT: 5756
