FILENAME: O4510763.NWS.1010769.tif
QUADRANGLE_NAME: LITTLE BEAR CREEK
QUADRANT: NW
WEST_LONGITUDE: -107 15 0.00000
EAST_LONGITUDE: -107 11 15.00000
NORTH_LATITUDE: 45 7 30.00000
SOUTH_LATITUDE: 45 3 45.00000
PRODUCTION_DATE: 1999 6 11
RASTER_ORDER: LEFT_RIGHT/TOP_BOTTOM
BAND_ORGANIZATION: SINGLE FILE
BAND_CONTENT: BLACK&WHITE
BAND_CONTENT: UNDEFINED
BAND_CONTENT: UNDEFINED
BITS_PER_PIXEL: 8
SAMPLES_AND_LINES: 5761 7683
HORIZONTAL_DATUM: NAD83
HORIZONTAL_COORDINATE_SYSTEM: UTM
COORDINATE_ZONE: 13
HORIZONTAL_UNITS: METERS
HORIZONTAL_RESOLUTION: 1.00000
SECONDARY_HORIZONTAL_DATUM: NAD27
XY_ORIGIN: 322507.00000 4999600.00000
SECONDARY_XY_ORIGIN: 322552.32500 4999384.93000
NATION: US
NATION: "SCIENCE
STATE: MT
NW_QUAD_CORNER_XY: 323051.72500 4999299.20900
NE_QUAD_CORNER_XY: 327966.94700 4999164.25700
SE_QUAD_CORNERY_XY: 327779.11000 4992221.19500
SW_QUAD_CORNER_XY: 322858.51500 4992356.14700
SECONDARY_NW_QUAD_XY: 323046.48800 4999081.98100
SECONDARY_NE_QUAD_XY: 327961.85500 4998947.02600
SECONDARY_SE_QUAD_XY: 327774.01900 4992004.01800
SECONDARY_SW_QUAD_XY: 322853.27900 4992138.97400
RMSE_XY: 2.20000
IMAGE_SOURCE: BLACK AND WHITE FILM
SOURCE_IMAGE_ID: NAPP 9098 016
SOURCE_IMAGE_DATE: 1996 07 14
SOURCE_IMAGE_ID: NAPP 9098 015
SOURCE_IMAGE_DATE: 1996 07 14
SOURCE_IMAGE_ID: NAPP 9098 017
SOURCE_IMAGE_DATE: 1996 07 14
SOURCE_DEM_DATE: 1966 00 00
AGENCY: WESTERN MAPPING CENTER (WMC)
PRODUCER: UNDEFINED
PRODUCTION_SYSTEM: GIS/MAGIC
COMPRESSION: UNDEFINED
STANDARD_VERSION: 1996 12
METADATA_DATE: 1999 06 15
DATA_FILE_SIZE: 44267524
BYTE_COUNT: 5761
