FILENAME: O4510762.NWS.1010757.tif
QUADRANGLE_NAME: PASS CREEK EAST
QUADRANT: NW
WEST_LONGITUDE: -107 22 30.00000
EAST_LONGITUDE: -107 18 45.00000
NORTH_LATITUDE: 45 7 30.00000
SOUTH_LATITUDE: 45 3 45.00000
PRODUCTION_DATE: 1999 6 11
RASTER_ORDER: LEFT_RIGHT/TOP_BOTTOM
BAND_ORGANIZATION: SINGLE FILE
BAND_CONTENT: BLACK&WHITE
BAND_CONTENT: UNDEFINED
BAND_CONTENT: UNDEFINED
BITS_PER_PIXEL: 8
SAMPLES_AND_LINES: 5773 7691
HORIZONTAL_DATUM: NAD83
HORIZONTAL_COORDINATE_SYSTEM: UTM
COORDINATE_ZONE: 13
HORIZONTAL_UNITS: METERS
HORIZONTAL_RESOLUTION: 1.00000
SECONDARY_HORIZONTAL_DATUM: NAD27
XY_ORIGIN: 312665.00000 4999881.00000
SECONDARY_XY_ORIGIN: 312710.39100 4999666.00900
NATION: US
NATION: "SCIENCE
STATE: MT
NW_QUAD_CORNER_XY: 313221.28300 4999580.52800
NE_QUAD_CORNER_XY: 318136.50400 4999437.96600
SE_QUAD_CORNERY_XY: 317937.92100 4992494.90500
SW_QUAD_CORNER_XY: 313017.32700 4992637.46800
SECONDARY_NW_QUAD_XY: 313215.75400 4999363.30900
SECONDARY_NE_QUAD_XY: 318131.12100 4999220.74200
SECONDARY_SE_QUAD_XY: 317932.53900 4992277.73600
SECONDARY_SW_QUAD_XY: 313011.80000 4992420.30300
RMSE_XY: 2.10000
IMAGE_SOURCE: BLACK AND WHITE FILM
SOURCE_IMAGE_ID: NAPP 9126 067
SOURCE_IMAGE_DATE: 1996 07 14
SOURCE_IMAGE_ID: NAPP 9133 182
SOURCE_IMAGE_DATE: 1996 08 08
SOURCE_IMAGE_ID: NAPP 9133 180
SOURCE_IMAGE_DATE: 1996 08 08
SOURCE_IMAGE_ID: NAPP 9133 040
SOURCE_IMAGE_DATE: 1996 08 08
SOURCE_IMAGE_ID: NAPP 9133 012
SOURCE_IMAGE_DATE: 1996 08 08
SOURCE_DEM_DATE: 1967 00 00
AGENCY: WESTERN MAPPING CENTER (WMC)
PRODUCER: UNDEFINED
PRODUCTION_SYSTEM: GIS/MAGIC
COMPRESSION: UNDEFINED
STANDARD_VERSION: 1996 12
METADATA_DATE: 1999 06 15
DATA_FILE_SIZE: 44405916
BYTE_COUNT: 5773
