FILENAME: O4510761.NES.1010752.tif
QUADRANGLE_NAME: PASS CREEK WEST
QUADRANT: NE
WEST_LONGITUDE: -107 26 15.00000
EAST_LONGITUDE: -107 22 30.00000
NORTH_LATITUDE: 45 7 30.00000
SOUTH_LATITUDE: 45 3 45.00000
PRODUCTION_DATE: 1999 6 11
RASTER_ORDER: LEFT_RIGHT/TOP_BOTTOM
BAND_ORGANIZATION: SINGLE FILE
BAND_CONTENT: BLACK&WHITE
BAND_CONTENT: UNDEFINED
BAND_CONTENT: UNDEFINED
BITS_PER_PIXEL: 8
SAMPLES_AND_LINES: 5779 7694
HORIZONTAL_DATUM: NAD83
HORIZONTAL_COORDINATE_SYSTEM: UTM
COORDINATE_ZONE: 13
HORIZONTAL_UNITS: METERS
HORIZONTAL_RESOLUTION: 1.00000
SECONDARY_HORIZONTAL_DATUM: NAD27
XY_ORIGIN: 307744.00000 5000027.00000
SECONDARY_XY_ORIGIN: 307789.42400 4999812.04700
NATION: US
NATION: "SCIENCE
STATE: MT
NW_QUAD_CORNER_XY: 308306.06300 4999726.89700
NE_QUAD_CORNER_XY: 313221.28300 4999580.52800
SE_QUAD_CORNERY_XY: 313017.32700 4992637.46800
SW_QUAD_CORNER_XY: 308096.73300 4992783.83800
SECONDARY_NW_QUAD_XY: 308300.38900 4999509.68200
SECONDARY_NE_QUAD_XY: 313215.75400 4999363.30900
SECONDARY_SE_QUAD_XY: 313011.80000 4992420.30300
SECONDARY_SW_QUAD_XY: 308091.06100 4992566.67700
RMSE_XY: 1.40000
IMAGE_SOURCE: BLACK AND WHITE FILM
SOURCE_IMAGE_ID: NAPP 9133 181
SOURCE_IMAGE_DATE: 1996 08 08
SOURCE_IMAGE_ID: NAPP 9133 187
SOURCE_IMAGE_DATE: 1996 08 08
SOURCE_IMAGE_ID: NAPP 9133 180
SOURCE_IMAGE_DATE: 1996 08 08
SOURCE_DEM_DATE: 1967 00 00
AGENCY: WESTERN MAPPING CENTER (WMC)
PRODUCER: UNDEFINED
PRODUCTION_SYSTEM: GIS/MAGIC
COMPRESSION: UNDEFINED
STANDARD_VERSION: 1996 12
METADATA_DATE: 1999 06 15
DATA_FILE_SIZE: 44469405
BYTE_COUNT: 5779
