FILENAME: O4510761.SWS.1010755.tif
QUADRANGLE_NAME: PASS CREEK WEST
QUADRANT: SW
WEST_LONGITUDE: -107 30 0.00000
EAST_LONGITUDE: -107 26 15.00000
NORTH_LATITUDE: 45 3 45.00000
SOUTH_LATITUDE: 45 0 0.00000
PRODUCTION_DATE: 1999 6 10
RASTER_ORDER: LEFT_RIGHT/TOP_BOTTOM
BAND_ORGANIZATION: SINGLE FILE
BAND_CONTENT: BLACK&WHITE
BAND_CONTENT: UNDEFINED
BAND_CONTENT: UNDEFINED
BITS_PER_PIXEL: 8
SAMPLES_AND_LINES: 5789 7699
HORIZONTAL_DATUM: NAD83
HORIZONTAL_COORDINATE_SYSTEM: UTM
COORDINATE_ZONE: 13
HORIZONTAL_UNITS: METERS
HORIZONTAL_RESOLUTION: 1.00000
SECONDARY_HORIZONTAL_DATUM: NAD27
XY_ORIGIN: 302609.00000 4993235.00000
SECONDARY_XY_ORIGIN: 302654.38600 4993020.07800
NATION: US
NATION: "SCIENCE
STATE: MT
STATE: WY
NW_QUAD_CORNER_XY: 303176.14000 4992934.01400
NE_QUAD_CORNER_XY: 308096.73300 4992783.83800
SE_QUAD_CORNERY_XY: 307887.63300 4985840.84100
SW_QUAD_CORNER_XY: 302961.67200 4985991.01700
SECONDARY_NW_QUAD_XY: 303170.32200 4992716.85800
SECONDARY_NE_QUAD_XY: 308091.06100 4992566.67700
SECONDARY_SE_QUAD_XY: 307881.96200 4985623.73500
SECONDARY_SW_QUAD_XY: 302955.85500 4985773.91600
RMSE_XY: 2.50000
IMAGE_SOURCE: BLACK AND WHITE FILM
SOURCE_IMAGE_ID: NAPP 9133 186
SOURCE_IMAGE_DATE: 1996 08 08
SOURCE_IMAGE_ID: NAPP 9133 185
SOURCE_IMAGE_DATE: 1996 08 08
SOURCE_IMAGE_ID: NAPP 9133 187
SOURCE_IMAGE_DATE: 1996 08 08
SOURCE_IMAGE_ID: NAPP 9133 182
SOURCE_IMAGE_DATE: 1996 08 08
SOURCE_DEM_DATE: 1967 00 00
AGENCY: WESTERN MAPPING CENTER (WMC)
PRODUCER: UNDEFINED
PRODUCTION_SYSTEM: GIS/MAGIC
COMPRESSION: UNDEFINED
STANDARD_VERSION: 1996 12
METADATA_DATE: 1999 06 15
DATA_FILE_SIZE: 44575300
BYTE_COUNT: 5789
