FILENAME: O4510760.NES.1008712.tif
QUADRANGLE_NAME: BLACK GULCH
QUADRANT: NE
WEST_LONGITUDE: -107 33 45.00000
EAST_LONGITUDE: -107 30 0.00000
NORTH_LATITUDE: 45 7 30.00000
SOUTH_LATITUDE: 45 3 45.00000
PRODUCTION_DATE: 1999 4 27
RASTER_ORDER: LEFT_RIGHT/TOP_BOTTOM
BAND_ORGANIZATION: SINGLE FILE
BAND_CONTENT: BLACK&WHITE
BAND_CONTENT: UNDEFINED
BAND_CONTENT: UNDEFINED
BITS_PER_PIXEL: 8
SAMPLES_AND_LINES: 5789 7703
HORIZONTAL_DATUM: NAD83
HORIZONTAL_COORDINATE_SYSTEM: UTM
COORDINATE_ZONE: 13
HORIZONTAL_UNITS: METERS
HORIZONTAL_RESOLUTION: 1.00000
SECONDARY_HORIZONTAL_DATUM: NAD27
XY_ORIGIN: 297903.00000 5000332.00000
SECONDARY_XY_ORIGIN: 297948.44500 5000117.11300
NATION: US
NATION: "SCIENCE
STATE: MT
NW_QUAD_CORNER_XY: 298475.62600 5000031.05400
NE_QUAD_CORNER_XY: 303390.84400 4999877.07200
SE_QUAD_CORNERY_XY: 303176.14000 4992934.01400
SW_QUAD_CORNER_XY: 298255.54700 4993087.99600
SECONDARY_NW_QUAD_XY: 298469.66000 4999813.84800
SECONDARY_NE_QUAD_XY: 303385.02400 4999659.86200
SECONDARY_SE_QUAD_XY: 303170.32200 4992716.85800
SECONDARY_SW_QUAD_XY: 298249.58400 4992870.84500
RMSE_XY: 2.00000
IMAGE_SOURCE: BLACK AND WHITE FILM
SOURCE_IMAGE_ID: NAPP 9135 088
SOURCE_IMAGE_DATE: 1996 08 19
SOURCE_DEM_DATE: 1969 00 00
AGENCY: WESTERN MAPPING CENTER (WMC)
PRODUCER: UNDEFINED
PRODUCTION_SYSTEM: GIS/MAGIC
COMPRESSION: UNDEFINED
STANDARD_VERSION: 1996 12
METADATA_DATE: 1999 06 02
DATA_FILE_SIZE: 44598456
BYTE_COUNT: 5789
