FILENAME: O4510760.SES.1008714.tif
QUADRANGLE_NAME: BLACK GULCH
QUADRANT: SE
WEST_LONGITUDE: -107 33 45.00000
EAST_LONGITUDE: -107 30 0.00000
NORTH_LATITUDE: 45 3 45.00000
SOUTH_LATITUDE: 45 0 0.00000
PRODUCTION_DATE: 1999 4 27
RASTER_ORDER: LEFT_RIGHT/TOP_BOTTOM
BAND_ORGANIZATION: SINGLE FILE
BAND_CONTENT: BLACK&WHITE
BAND_CONTENT: UNDEFINED
BAND_CONTENT: UNDEFINED
BITS_PER_PIXEL: 8
SAMPLES_AND_LINES: 5795 7702
HORIZONTAL_DATUM: NAD83
HORIZONTAL_COORDINATE_SYSTEM: UTM
COORDINATE_ZONE: 13
HORIZONTAL_UNITS: METERS
HORIZONTAL_RESOLUTION: 1.00000
SECONDARY_HORIZONTAL_DATUM: NAD27
XY_ORIGIN: 297683.00000 4993388.00000
SECONDARY_XY_ORIGIN: 297728.38300 4993173.10400
NATION: US
NATION: "SCIENCE
STATE: MT
STATE: WY
NW_QUAD_CORNER_XY: 298255.54700 4993087.99600
NE_QUAD_CORNER_XY: 303176.14000 4992934.01400
SE_QUAD_CORNERY_XY: 302961.67200 4985991.01700
SW_QUAD_CORNER_XY: 298035.71000 4986145.00000
SECONDARY_NW_QUAD_XY: 298249.58400 4992870.84500
SECONDARY_NE_QUAD_XY: 303170.32200 4992716.85800
SECONDARY_SE_QUAD_XY: 302955.85500 4985773.91600
SECONDARY_SW_QUAD_XY: 298029.74800 4985927.90300
RMSE_XY: 2.70000
IMAGE_SOURCE: BLACK AND WHITE FILM
SOURCE_IMAGE_ID: NAPP 9135 090
SOURCE_IMAGE_DATE: 1996 08 19
SOURCE_IMAGE_ID: NAPP 7815 009
SOURCE_IMAGE_DATE: 1996 09 09
SOURCE_DEM_DATE: 1969 00 00
AGENCY: WESTERN MAPPING CENTER (WMC)
PRODUCER: UNDEFINED
PRODUCTION_SYSTEM: GIS/MAGIC
COMPRESSION: UNDEFINED
STANDARD_VERSION: 1996 12
METADATA_DATE: 1999 06 02
DATA_FILE_SIZE: 44638885
BYTE_COUNT: 5795
