FILENAME: O4510760.SWS.1008715.tif
QUADRANGLE_NAME: BLACK GULCH
QUADRANT: SW
WEST_LONGITUDE: -107 37 30.00000
EAST_LONGITUDE: -107 33 45.00000
NORTH_LATITUDE: 45 3 45.00000
SOUTH_LATITUDE: 45 0 0.00000
PRODUCTION_DATE: 1999 4 27
RASTER_ORDER: LEFT_RIGHT/TOP_BOTTOM
BAND_ORGANIZATION: SINGLE FILE
BAND_CONTENT: BLACK&WHITE
BAND_CONTENT: UNDEFINED
BAND_CONTENT: UNDEFINED
BITS_PER_PIXEL: 8
SAMPLES_AND_LINES: 5800 7706
HORIZONTAL_DATUM: NAD83
HORIZONTAL_COORDINATE_SYSTEM: UTM
COORDINATE_ZONE: 13
HORIZONTAL_UNITS: METERS
HORIZONTAL_RESOLUTION: 1.00000
SECONDARY_HORIZONTAL_DATUM: NAD27
XY_ORIGIN: 292757.00000 4993546.00000
SECONDARY_XY_ORIGIN: 292802.38200 4993331.13000
NATION: US
NATION: "SCIENCE
STATE: MT
STATE: WY
NW_QUAD_CORNER_XY: 293334.95500 4993245.78600
NE_QUAD_CORNER_XY: 298255.54700 4993087.99600
SE_QUAD_CORNERY_XY: 298035.71000 4986145.00000
SW_QUAD_CORNER_XY: 293109.74800 4986302.79000
SECONDARY_NW_QUAD_XY: 293328.84500 4993028.64000
SECONDARY_NE_QUAD_XY: 298249.58400 4992870.84500
SECONDARY_SE_QUAD_XY: 298029.74800 4985927.90300
SECONDARY_SW_QUAD_XY: 293103.64100 4986085.69800
RMSE_XY: 2.40000
IMAGE_SOURCE: BLACK AND WHITE FILM
SOURCE_IMAGE_ID: NAPP 9155 015
SOURCE_IMAGE_DATE: 1997 08 30
SOURCE_IMAGE_ID: NAPP 9155 014
SOURCE_IMAGE_DATE: 1997 08 30
SOURCE_DEM_DATE: 1969 00 00
AGENCY: WESTERN MAPPING CENTER (WMC)
PRODUCER: UNDEFINED
PRODUCTION_SYSTEM: GIS/MAGIC
COMPRESSION: UNDEFINED
STANDARD_VERSION: 1996 12
METADATA_DATE: 1999 06 02
DATA_FILE_SIZE: 44700600
BYTE_COUNT: 5800
