FILENAME: O4510759.NES.1006808.tif
QUADRANGLE_NAME: WILLOW CREEK DAM SW
QUADRANT: NE
WEST_LONGITUDE: -107 41 15.00000
EAST_LONGITUDE: -107 37 30.00000
NORTH_LATITUDE: 45 7 30.00000
SOUTH_LATITUDE: 45 3 45.00000
PRODUCTION_DATE: 1999 4 27
RASTER_ORDER: LEFT_RIGHT/TOP_BOTTOM
BAND_ORGANIZATION: SINGLE FILE
BAND_CONTENT: BLACK&WHITE
BAND_CONTENT: UNDEFINED
BAND_CONTENT: UNDEFINED
BITS_PER_PIXEL: 8
SAMPLES_AND_LINES: 5801 7710
HORIZONTAL_DATUM: NAD83
HORIZONTAL_COORDINATE_SYSTEM: UTM
COORDINATE_ZONE: 13
HORIZONTAL_UNITS: METERS
HORIZONTAL_RESOLUTION: 1.00000
SECONDARY_HORIZONTAL_DATUM: NAD27
XY_ORIGIN: 288061.00000 5000651.00000
SECONDARY_XY_ORIGIN: 288106.42400 5000436.17100
NATION: US
NATION: "SCIENCE
STATE: MT
NW_QUAD_CORNER_XY: 288645.19200 5000350.44000
NE_QUAD_CORNER_XY: 293560.40800 5000188.84300
SE_QUAD_CORNERY_XY: 293334.95500 4993245.78600
SW_QUAD_CORNER_XY: 288414.36200 4993407.38400
SECONDARY_NW_QUAD_XY: 288638.93500 5000133.24400
SECONDARY_NE_QUAD_XY: 293554.29700 4999971.64200
SECONDARY_SE_QUAD_XY: 293328.84500 4993028.64000
SECONDARY_SW_QUAD_XY: 288408.10800 4993190.24200
RMSE_XY: 1.70000
IMAGE_SOURCE: BLACK AND WHITE FILM
SOURCE_IMAGE_ID: NAPP 9139 009
SOURCE_IMAGE_DATE: 1996 08 26
SOURCE_IMAGE_ID: NAPP 9139 008
SOURCE_IMAGE_DATE: 1996 08 26
SOURCE_IMAGE_ID: NAPP 9139 010
SOURCE_IMAGE_DATE: 1996 08 26
SOURCE_DEM_DATE: 1969 00 00
AGENCY: WESTERN MAPPING CENTER (WMC)
PRODUCER: UNDEFINED
PRODUCTION_SYSTEM: GIS/MAGIC
COMPRESSION: UNDEFINED
STANDARD_VERSION: 1996 12
METADATA_DATE: 1999 05 18
DATA_FILE_SIZE: 44731511
BYTE_COUNT: 5801
