FILENAME: O4510759.SWS.1006811.tif
QUADRANGLE_NAME: WILLOW CREEK DAM SW
QUADRANT: SW
WEST_LONGITUDE: -107 45 0.00000
EAST_LONGITUDE: -107 41 15.00000
NORTH_LATITUDE: 45 3 45.00000
SOUTH_LATITUDE: 45 0 0.00000
PRODUCTION_DATE: 1999 4 27
RASTER_ORDER: LEFT_RIGHT/TOP_BOTTOM
BAND_ORGANIZATION: SINGLE FILE
BAND_CONTENT: BLACK&WHITE
BAND_CONTENT: UNDEFINED
BAND_CONTENT: UNDEFINED
BITS_PER_PIXEL: 8
SAMPLES_AND_LINES: 5811 7713
HORIZONTAL_DATUM: NAD83
HORIZONTAL_COORDINATE_SYSTEM: UTM
COORDINATE_ZONE: 13
HORIZONTAL_UNITS: METERS
HORIZONTAL_RESOLUTION: 1.00000
SECONDARY_HORIZONTAL_DATUM: NAD27
XY_ORIGIN: 282905.00000 4993873.00000
SECONDARY_XY_ORIGIN: 282950.37800 4993658.18300
NATION: US
NATION: "SCIENCE
STATE: MT
STATE: WY
NW_QUAD_CORNER_XY: 283493.77100 4993572.79000
NE_QUAD_CORNER_XY: 288414.36200 4993407.38400
SE_QUAD_CORNERY_XY: 288183.78600 4986464.38800
SW_QUAD_CORNER_XY: 283257.82400 4986629.79400
SECONDARY_NW_QUAD_XY: 283487.37000 4993355.65200
SECONDARY_NE_QUAD_XY: 288408.10800 4993190.24200
SECONDARY_SE_QUAD_XY: 288177.53300 4986247.30100
SECONDARY_SW_QUAD_XY: 283251.42600 4986412.71100
RMSE_XY: 1.90000
IMAGE_SOURCE: BLACK AND WHITE FILM
SOURCE_IMAGE_ID: NAPP 9139 075
SOURCE_IMAGE_DATE: 1996 08 26
SOURCE_IMAGE_ID: NAPP 9139 076
SOURCE_IMAGE_DATE: 1996 08 26
SOURCE_IMAGE_ID: NAPP 9139 074
SOURCE_IMAGE_DATE: 1996 08 26
SOURCE_IMAGE_ID: NAPP 9139 073
SOURCE_IMAGE_DATE: 1996 08 26
SOURCE_IMAGE_ID: NAPP 9139 008
SOURCE_IMAGE_DATE: 1996 08 26
SOURCE_DEM_DATE: 1969 00 00
AGENCY: WESTERN MAPPING CENTER (WMC)
PRODUCER: UNDEFINED
PRODUCTION_SYSTEM: GIS/MAGIC
COMPRESSION: UNDEFINED
STANDARD_VERSION: 1996 12
METADATA_DATE: 1999 05 18
DATA_FILE_SIZE: 44826054
BYTE_COUNT: 5811
