FILENAME: O4510758.NWS.1050863.tif
QUADRANGLE_NAME: Red Springs
QUADRANT: NW
WEST_LONGITUDE: -107 52 30.00000
EAST_LONGITUDE: -107 48 45.00000
NORTH_LATITUDE: 45 7 30.00000
SOUTH_LATITUDE: 45 3 45.00000
PRODUCTION_DATE: 2000 2 24
RASTER_ORDER: LEFT_RIGHT/TOP_BOTTOM
BAND_ORGANIZATION: SINGLE FILE
BAND_CONTENT: BLACK&WHITE
BAND_CONTENT: UNDEFINED
BAND_CONTENT: UNDEFINED
BITS_PER_PIXEL: 8
SAMPLES_AND_LINES: 5815 7719
HORIZONTAL_DATUM: NAD83
HORIZONTAL_COORDINATE_SYSTEM: UTM
COORDINATE_ZONE: 13
HORIZONTAL_UNITS: meters
HORIZONTAL_RESOLUTION: 1.00000
SECONDARY_HORIZONTAL_DATUM: NAD27
XY_ORIGIN: 273300.97000 5001157.58000
SECONDARY_XY_ORIGIN: 273346.42800 5000942.93400
NATION: US
STATE: MT
NW_QUAD_CORNER_XY: 273899.54800 5000858.08000
NE_QUAD_CORNER_XY: 278814.76200 5000685.05800
SE_QUAD_CORNERY_XY: 278573.17900 4993742.00400
SW_QUAD_CORNER_XY: 273652.58800 4993915.02700
SECONDARY_NW_QUAD_XY: 273892.85500 5000640.89800
SECONDARY_NE_QUAD_XY: 278808.21400 5000467.87200
SECONDARY_SE_QUAD_XY: 278566.63400 4993524.87200
SECONDARY_SW_QUAD_XY: 273645.89700 4993697.90000
RMSE_XY: 1.95000
IMAGE_SOURCE: BLACK & WHITE FILM
SOURCE_IMAGE_ID: NAPP 11011 011
SOURCE_IMAGE_DATE: 1998 8 21
SOURCE_IMAGE_ID: NAPP 11011 010
SOURCE_IMAGE_DATE: 1998 8 21
SOURCE_IMAGE_ID: NAPP 11011 009
SOURCE_IMAGE_DATE: 1998 8 21
SOURCE_IMAGE_ID: NAPP 11011 008
SOURCE_IMAGE_DATE: 1998 8 21
SOURCE_IMAGE_ID: NAPP 11011 007
SOURCE_IMAGE_DATE: 1998 8 21
SOURCE_DEM_DATE: 1968 1 1
AGENCY: ROCKY MOUNTAIN MAPPING CENTER (RMMC)
PRODUCER: ROCKY MOUNTAIN MAPPING CENTER (RMMC)
PRODUCTION_SYSTEM: ImageStation OrthoPro 02.02.01.06
COMPRESSION: UNDEFINED
STANDARD_VERSION: 1996 12
METADATA_DATE: 2000 2 24
DATA_FILE_SIZE: 44891800
BYTE_COUNT: 5815
