FILENAME: O4510758.SES.1050864.tif
QUADRANGLE_NAME: Red Springs
QUADRANT: SE
WEST_LONGITUDE: -107 48 45.00000
EAST_LONGITUDE: -107 45 0.00000
NORTH_LATITUDE: 45 3 45.00000
SOUTH_LATITUDE: 45 0 0.00000
PRODUCTION_DATE: 2000 2 24
RASTER_ORDER: LEFT_RIGHT/TOP_BOTTOM
BAND_ORGANIZATION: SINGLE FILE
BAND_CONTENT: BLACK&WHITE
BAND_CONTENT: UNDEFINED
BAND_CONTENT: UNDEFINED
BITS_PER_PIXEL: 8
SAMPLES_AND_LINES: 5814 7715
HORIZONTAL_DATUM: NAD83
HORIZONTAL_COORDINATE_SYSTEM: UTM
COORDINATE_ZONE: 13
HORIZONTAL_UNITS: meters
HORIZONTAL_RESOLUTION: 1.00000
SECONDARY_HORIZONTAL_DATUM: NAD27
XY_ORIGIN: 277980.45000 4994041.50000
SECONDARY_XY_ORIGIN: 278025.85200 4993826.79000
NATION: US
STATE: MT
STATE: WY
NW_QUAD_CORNER_XY: 278573.17900 4993742.00400
NE_QUAD_CORNER_XY: 283493.77100 4993572.79000
SE_QUAD_CORNERY_XY: 283257.82400 4986629.79400
SW_QUAD_CORNER_XY: 278331.86200 4986799.00800
SECONDARY_NW_QUAD_XY: 278566.63400 4993524.87200
SECONDARY_NE_QUAD_XY: 283487.37000 4993355.65300
SECONDARY_SE_QUAD_XY: 283251.42600 4986412.71200
SECONDARY_SW_QUAD_XY: 278325.31800 4986581.93100
RMSE_XY: 2.11000
IMAGE_SOURCE: BLACK & WHITE FILM
SOURCE_IMAGE_ID: NAPP 11011 012
SOURCE_IMAGE_DATE: 1998 8 21
SOURCE_IMAGE_ID: NAPP 11011 014
SOURCE_IMAGE_DATE: 1998 8 21
SOURCE_IMAGE_ID: NAPP 11011 013
SOURCE_IMAGE_DATE: 1998 8 21
SOURCE_IMAGE_ID: NAPP 11011 007
SOURCE_IMAGE_DATE: 1998 8 21
SOURCE_IMAGE_ID: NAPP 11011 006
SOURCE_IMAGE_DATE: 1998 8 21
SOURCE_DEM_DATE: 1968 1 1
AGENCY: ROCKY MOUNTAIN MAPPING CENTER (RMMC)
PRODUCER: ROCKY MOUNTAIN MAPPING CENTER (RMMC)
PRODUCTION_SYSTEM: ImageStation OrthoPro 02.02.01.06
COMPRESSION: UNDEFINED
STANDARD_VERSION: 1996 12
METADATA_DATE: 2000 2 24
DATA_FILE_SIZE: 44860824
BYTE_COUNT: 5814
