FILENAME: O4510757.NES.1050858.tif
QUADRANGLE_NAME: Bear Hole
QUADRANT: NE
WEST_LONGITUDE: -107 56 15.00000
EAST_LONGITUDE: -107 52 30.00000
NORTH_LATITUDE: 45 7 30.00000
SOUTH_LATITUDE: 45 3 45.00000
PRODUCTION_DATE: 2000 2 24
RASTER_ORDER: LEFT_RIGHT/TOP_BOTTOM
BAND_ORGANIZATION: SINGLE FILE
BAND_CONTENT: BLACK&WHITE
BAND_CONTENT: UNDEFINED
BAND_CONTENT: UNDEFINED
BITS_PER_PIXEL: 8
SAMPLES_AND_LINES: 5820 7723
HORIZONTAL_DATUM: NAD83
HORIZONTAL_COORDINATE_SYSTEM: UTM
COORDINATE_ZONE: 13
HORIZONTAL_UNITS: meters
HORIZONTAL_RESOLUTION: 1.00000
SECONDARY_HORIZONTAL_DATUM: NAD27
XY_ORIGIN: 268380.21000 5001334.41000
SECONDARY_XY_ORIGIN: 268425.68900 5001119.83700
NATION: US
STATE: MT
NW_QUAD_CORNER_XY: 268984.33600 5001034.91000
NE_QUAD_CORNER_XY: 273899.54800 5000858.08000
SE_QUAD_CORNERY_XY: 273652.58800 4993915.02700
SW_QUAD_CORNER_XY: 268731.99800 4994091.85900
SECONDARY_NW_QUAD_XY: 268977.49700 5000817.73400
SECONDARY_NE_QUAD_XY: 273892.85500 5000640.89800
SECONDARY_SE_QUAD_XY: 273645.89700 4993697.90000
SECONDARY_SW_QUAD_XY: 268725.16100 4993874.73700
RMSE_XY: 1.81000
IMAGE_SOURCE: BLACK & WHITE FILM
SOURCE_IMAGE_ID: NAPP 11011 011
SOURCE_IMAGE_DATE: 1998 8 21
SOURCE_IMAGE_ID: NAPP 11011 019
SOURCE_IMAGE_DATE: 1998 8 21
SOURCE_IMAGE_ID: NAPP 11011 010
SOURCE_IMAGE_DATE: 1998 8 21
SOURCE_IMAGE_ID: NAPP 11011 012
SOURCE_IMAGE_DATE: 1998 8 21
SOURCE_IMAGE_ID: NAPP 11011 018
SOURCE_IMAGE_DATE: 1998 8 21
SOURCE_DEM_DATE: 1968 1 1
AGENCY: ROCKY MOUNTAIN MAPPING CENTER (RMMC)
PRODUCER: ROCKY MOUNTAIN MAPPING CENTER (RMMC)
PRODUCTION_SYSTEM: ImageStation OrthoPro 02.02.01.06
COMPRESSION: UNDEFINED
STANDARD_VERSION: 1996 12
METADATA_DATE: 2000 2 24
DATA_FILE_SIZE: 44953680
BYTE_COUNT: 5820
