FILENAME: O4510757.NWS.1050859.tif
QUADRANGLE_NAME: Bear Hole
QUADRANT: NW
WEST_LONGITUDE: -108 0 0.00000
EAST_LONGITUDE: -107 56 15.00000
NORTH_LATITUDE: 45 7 30.00000
SOUTH_LATITUDE: 45 3 45.00000
PRODUCTION_DATE: 2000 2 24
RASTER_ORDER: LEFT_RIGHT/TOP_BOTTOM
BAND_ORGANIZATION: SINGLE FILE
BAND_CONTENT: BLACK&WHITE
BAND_CONTENT: UNDEFINED
BAND_CONTENT: UNDEFINED
BITS_PER_PIXEL: 8
SAMPLES_AND_LINES: 5826 7727
HORIZONTAL_DATUM: NAD83
HORIZONTAL_COORDINATE_SYSTEM: UTM
COORDINATE_ZONE: 13
HORIZONTAL_UNITS: meters
HORIZONTAL_RESOLUTION: 1.00000
SECONDARY_HORIZONTAL_DATUM: NAD27
XY_ORIGIN: 263459.45000 5001515.05000
SECONDARY_XY_ORIGIN: 263504.94800 5001300.54600
NATION: US
STATE: MT
NW_QUAD_CORNER_XY: 264069.12500 5001215.55000
NE_QUAD_CORNER_XY: 268984.33600 5001034.91000
SE_QUAD_CORNERY_XY: 268731.99800 4994091.85900
SW_QUAD_CORNER_XY: 263811.40800 4994272.50000
SECONDARY_NW_QUAD_XY: 264062.14000 5000998.38000
SECONDARY_NE_QUAD_XY: 268977.49700 5000817.73400
SECONDARY_SE_QUAD_XY: 268725.16100 4993874.73700
SECONDARY_SW_QUAD_XY: 263804.42600 4994055.38400
RMSE_XY: 2.45000
IMAGE_SOURCE: BLACK & WHITE FILM
SOURCE_IMAGE_ID: NAPP 11011 025
SOURCE_IMAGE_DATE: 1998 8 21
SOURCE_IMAGE_ID: NAPP 11011 019
SOURCE_IMAGE_DATE: 1998 8 21
SOURCE_IMAGE_ID: NAPP 9161 031
SOURCE_IMAGE_DATE: 1998 7 12
SOURCE_IMAGE_ID: NAPP 9161 033
SOURCE_IMAGE_DATE: 1998 7 12
SOURCE_IMAGE_ID: NAPP 9161 032
SOURCE_IMAGE_DATE: 1998 7 12
SOURCE_DEM_DATE: 1968 1 1
AGENCY: ROCKY MOUNTAIN MAPPING CENTER (RMMC)
PRODUCER: ROCKY MOUNTAIN MAPPING CENTER (RMMC)
PRODUCTION_SYSTEM: ImageStation OrthoPro 02.02.01.06
COMPRESSION: UNDEFINED
STANDARD_VERSION: 1996 12
METADATA_DATE: 2000 2 24
DATA_FILE_SIZE: 45023328
BYTE_COUNT: 5826
