FILENAME: O4510757.SES.1050860.tif
QUADRANGLE_NAME: Bear Hole
QUADRANT: SE
WEST_LONGITUDE: -107 56 15.00000
EAST_LONGITUDE: -107 52 30.00000
NORTH_LATITUDE: 45 3 45.00000
SOUTH_LATITUDE: 45 0 0.00000
PRODUCTION_DATE: 2000 2 24
RASTER_ORDER: LEFT_RIGHT/TOP_BOTTOM
BAND_ORGANIZATION: SINGLE FILE
BAND_CONTENT: BLACK&WHITE
BAND_CONTENT: UNDEFINED
BAND_CONTENT: UNDEFINED
BITS_PER_PIXEL: 8
SAMPLES_AND_LINES: 5825 7723
HORIZONTAL_DATUM: NAD83
HORIZONTAL_COORDINATE_SYSTEM: UTM
COORDINATE_ZONE: 13
HORIZONTAL_UNITS: meters
HORIZONTAL_RESOLUTION: 1.00000
SECONDARY_HORIZONTAL_DATUM: NAD27
XY_ORIGIN: 268128.18000 4994391.36000
SECONDARY_XY_ORIGIN: 268173.63100 4994176.84500
NATION: US
STATE: MT
STATE: WY
NW_QUAD_CORNER_XY: 268731.99800 4994091.85900
NE_QUAD_CORNER_XY: 273652.58800 4993915.02700
SE_QUAD_CORNERY_XY: 273405.89900 4986972.03100
SW_QUAD_CORNER_XY: 268479.93700 4987148.86300
SECONDARY_NW_QUAD_XY: 268725.16100 4993874.73700
SECONDARY_NE_QUAD_XY: 273645.89700 4993697.90000
SECONDARY_SE_QUAD_XY: 273399.21000 4986754.95900
SECONDARY_SW_QUAD_XY: 268473.10200 4986931.79700
RMSE_XY: 1.75000
IMAGE_SOURCE: BLACK & WHITE FILM
SOURCE_IMAGE_ID: NAPP 11011 028
SOURCE_IMAGE_DATE: 1998 8 21
SOURCE_IMAGE_ID: NAPP 11011 014
SOURCE_IMAGE_DATE: 1998 8 21
SOURCE_IMAGE_ID: NAPP 11011 013
SOURCE_IMAGE_DATE: 1998 8 21
SOURCE_IMAGE_ID: NAPP 11011 012
SOURCE_IMAGE_DATE: 1998 8 21
SOURCE_IMAGE_ID: NAPP 11011 017
SOURCE_IMAGE_DATE: 1998 8 21
SOURCE_DEM_DATE: 1968 1 1
AGENCY: ROCKY MOUNTAIN MAPPING CENTER (RMMC)
PRODUCER: ROCKY MOUNTAIN MAPPING CENTER (RMMC)
PRODUCTION_SYSTEM: ImageStation OrthoPro 02.02.01.06
COMPRESSION: UNDEFINED
STANDARD_VERSION: 1996 12
METADATA_DATE: 2000 2 24
DATA_FILE_SIZE: 44992300
BYTE_COUNT: 5825
