FILENAME: O4510756.NES.1010366.tif
QUADRANGLE_NAME: BAR V RANCH NE
QUADRANT: NE
WEST_LONGITUDE: -107 3 45.00000
EAST_LONGITUDE: -107 0 0.00000
NORTH_LATITUDE: 45 15 0.00000
SOUTH_LATITUDE: 45 11 15.00000
PRODUCTION_DATE: 1999 6 8
RASTER_ORDER: LEFT_RIGHT/TOP_BOTTOM
BAND_ORGANIZATION: SINGLE FILE
BAND_CONTENT: BLACK&WHITE
BAND_CONTENT: UNDEFINED
BAND_CONTENT: UNDEFINED
BITS_PER_PIXEL: 8
SAMPLES_AND_LINES: 5734 7672
HORIZONTAL_DATUM: NAD83
HORIZONTAL_COORDINATE_SYSTEM: UTM
COORDINATE_ZONE: 13
HORIZONTAL_UNITS: METERS
HORIZONTAL_RESOLUTION: 1.00000
SECONDARY_HORIZONTAL_DATUM: NAD27
XY_ORIGIN: 337624.00000 5013093.00000
SECONDARY_XY_ORIGIN: 337668.79800 5012877.45600
NATION: US
NATION: "SCIENCE
STATE: MT
NW_QUAD_CORNER_XY: 338152.16600 5012792.09600
NE_QUAD_CORNER_XY: 343056.63000 5012668.56200
SE_QUAD_CORNERY_XY: 342884.53000 5005725.36300
SW_QUAD_CORNER_XY: 337974.68300 5005848.89900
SECONDARY_NW_QUAD_XY: 338147.36200 5012574.75100
SECONDARY_NE_QUAD_XY: 343051.97200 5012451.21300
SECONDARY_SE_QUAD_XY: 342879.87300 5005508.06700
SECONDARY_SW_QUAD_XY: 337969.88000 5005631.60700
RMSE_XY: 1.80000
IMAGE_SOURCE: BLACK AND WHITE FILM
SOURCE_IMAGE_ID: NAPP 9099 152
SOURCE_IMAGE_DATE: 1996 07 14
SOURCE_IMAGE_ID: NAPP 9099 153
SOURCE_IMAGE_DATE: 1996 07 14
SOURCE_IMAGE_ID: NAPP 9099 151
SOURCE_IMAGE_DATE: 1996 07 14
SOURCE_IMAGE_ID: NAPP 9099 022
SOURCE_IMAGE_DATE: 1996 07 14
SOURCE_DEM_DATE: 1966 00 00
AGENCY: WESTERN MAPPING CENTER (WMC)
PRODUCER: UNDEFINED
PRODUCTION_SYSTEM: GIS/MAGIC
COMPRESSION: UNDEFINED
STANDARD_VERSION: 1996 12
METADATA_DATE: 1999 06 14
DATA_FILE_SIZE: 43996982
BYTE_COUNT: 5734
