FILENAME: O4510756.SES.1010368.tif
QUADRANGLE_NAME: BAR V RANCH NE
QUADRANT: SE
WEST_LONGITUDE: -107 3 45.00000
EAST_LONGITUDE: -107 0 0.00000
NORTH_LATITUDE: 45 11 15.00000
SOUTH_LATITUDE: 45 7 30.00000
PRODUCTION_DATE: 1999 6 7
RASTER_ORDER: LEFT_RIGHT/TOP_BOTTOM
BAND_ORGANIZATION: SINGLE FILE
BAND_CONTENT: BLACK&WHITE
BAND_CONTENT: UNDEFINED
BAND_CONTENT: UNDEFINED
BITS_PER_PIXEL: 8
SAMPLES_AND_LINES: 5740 7671
HORIZONTAL_DATUM: NAD83
HORIZONTAL_COORDINATE_SYSTEM: UTM
COORDINATE_ZONE: 13
HORIZONTAL_UNITS: METERS
HORIZONTAL_RESOLUTION: 1.00000
SECONDARY_HORIZONTAL_DATUM: NAD27
XY_ORIGIN: 337446.00000 5006149.00000
SECONDARY_XY_ORIGIN: 337490.84400 5005933.53600
NATION: US
NATION: "SCIENCE
STATE: MT
NW_QUAD_CORNER_XY: 337974.68300 5005848.89900
NE_QUAD_CORNER_XY: 342884.53000 5005725.36300
SE_QUAD_CORNERY_XY: 342712.61800 4998782.23200
SW_QUAD_CORNER_XY: 337797.39400 4998905.76900
SECONDARY_NW_QUAD_XY: 337969.88000 5005631.60700
SECONDARY_NE_QUAD_XY: 342879.87300 5005508.06700
SECONDARY_SE_QUAD_XY: 342707.96300 4998564.99000
SECONDARY_SW_QUAD_XY: 337792.59300 4998688.53000
RMSE_XY: 1.60000
IMAGE_SOURCE: BLACK AND WHITE FILM
SOURCE_IMAGE_ID: NAPP 9099 154
SOURCE_IMAGE_DATE: 1996 07 14
SOURCE_IMAGE_ID: NAPP 9099 155
SOURCE_IMAGE_DATE: 1996 07 14
SOURCE_IMAGE_ID: NAPP 9099 153
SOURCE_IMAGE_DATE: 1996 07 14
SOURCE_DEM_DATE: 1966 00 00
AGENCY: WESTERN MAPPING CENTER (WMC)
PRODUCER: UNDEFINED
PRODUCTION_SYSTEM: GIS/MAGIC
COMPRESSION: UNDEFINED
STANDARD_VERSION: 1996 12
METADATA_DATE: 1999 06 14
DATA_FILE_SIZE: 44037280
BYTE_COUNT: 5740
