FILENAME: O4510755.NES.1010354.tif
QUADRANGLE_NAME: KID CREEK
QUADRANT: NE
WEST_LONGITUDE: -107 11 15.00000
EAST_LONGITUDE: -107 7 30.00000
NORTH_LATITUDE: 45 15 0.00000
SOUTH_LATITUDE: 45 11 15.00000
PRODUCTION_DATE: 1999 6 7
RASTER_ORDER: LEFT_RIGHT/TOP_BOTTOM
BAND_ORGANIZATION: SINGLE FILE
BAND_CONTENT: BLACK&WHITE
BAND_CONTENT: UNDEFINED
BAND_CONTENT: UNDEFINED
BITS_PER_PIXEL: 8
SAMPLES_AND_LINES: 5746 7679
HORIZONTAL_DATUM: NAD83
HORIZONTAL_COORDINATE_SYSTEM: UTM
COORDINATE_ZONE: 13
HORIZONTAL_UNITS: METERS
HORIZONTAL_RESOLUTION: 1.00000
SECONDARY_HORIZONTAL_DATUM: NAD27
XY_ORIGIN: 327803.00000 5013351.00000
SECONDARY_XY_ORIGIN: 327848.24900 5013135.77300
NATION: US
NATION: "SCIENCE
STATE: MT
NW_QUAD_CORNER_XY: 328343.24100 5013050.57800
NE_QUAD_CORNER_XY: 333247.70200 5012919.43400
SE_QUAD_CORNERY_XY: 333064.83600 5005976.24000
SW_QUAD_CORNER_XY: 328154.99100 5006107.38500
SECONDARY_NW_QUAD_XY: 328338.14600 5012833.24000
SECONDARY_NE_QUAD_XY: 333242.75300 5012702.09300
SECONDARY_SE_QUAD_XY: 333059.88800 5005758.95100
SECONDARY_SW_QUAD_XY: 328149.89800 5005890.10000
RMSE_XY: 1.10000
IMAGE_SOURCE: BLACK AND WHITE FILM
SOURCE_IMAGE_ID: NAPP 9100 070
SOURCE_IMAGE_DATE: 1996 07 14
SOURCE_IMAGE_ID: NAPP 9098 021
SOURCE_IMAGE_DATE: 1996 07 14
SOURCE_IMAGE_ID: NAPP 9100 071
SOURCE_IMAGE_DATE: 1996 07 14
SOURCE_IMAGE_ID: NAPP 9100 069
SOURCE_IMAGE_DATE: 1996 07 14
SOURCE_DEM_DATE: 1966 00 00
AGENCY: WESTERN MAPPING CENTER (WMC)
PRODUCER: UNDEFINED
PRODUCTION_SYSTEM: GIS/MAGIC
COMPRESSION: UNDEFINED
STANDARD_VERSION: 1996 12
METADATA_DATE: 1999 06 14
DATA_FILE_SIZE: 44129280
BYTE_COUNT: 5746
