FILENAME: O4510755.SES.1010356.tif
QUADRANGLE_NAME: KID CREEK
QUADRANT: SE
WEST_LONGITUDE: -107 11 15.00000
EAST_LONGITUDE: -107 7 30.00000
NORTH_LATITUDE: 45 11 15.00000
SOUTH_LATITUDE: 45 7 30.00000
PRODUCTION_DATE: 1999 6 7
RASTER_ORDER: LEFT_RIGHT/TOP_BOTTOM
BAND_ORGANIZATION: SINGLE FILE
BAND_CONTENT: BLACK&WHITE
BAND_CONTENT: UNDEFINED
BAND_CONTENT: UNDEFINED
BITS_PER_PIXEL: 8
SAMPLES_AND_LINES: 5751 7679
HORIZONTAL_DATUM: NAD83
HORIZONTAL_COORDINATE_SYSTEM: UTM
COORDINATE_ZONE: 13
HORIZONTAL_UNITS: METERS
HORIZONTAL_RESOLUTION: 1.00000
SECONDARY_HORIZONTAL_DATUM: NAD27
XY_ORIGIN: 327615.00000 5006408.00000
SECONDARY_XY_ORIGIN: 327660.21500 5006192.79900
NATION: US
NATION: "SCIENCE
STATE: MT
NW_QUAD_CORNER_XY: 328154.99100 5006107.38500
NE_QUAD_CORNER_XY: 333064.83600 5005976.24000
SE_QUAD_CORNERY_XY: 332882.17000 4999033.11100
SW_QUAD_CORNER_XY: 327966.94700 4999164.25700
SECONDARY_NW_QUAD_XY: 328149.89800 5005890.10000
SECONDARY_NE_QUAD_XY: 333059.88800 5005758.95100
SECONDARY_SE_QUAD_XY: 332877.22400 4998815.87600
SECONDARY_SW_QUAD_XY: 327961.85500 4998947.02600
RMSE_XY: 1.80000
IMAGE_SOURCE: BLACK AND WHITE FILM
SOURCE_IMAGE_ID: NAPP 9100 072
SOURCE_IMAGE_DATE: 1996 07 14
SOURCE_IMAGE_ID: NAPP 9098 017
SOURCE_IMAGE_DATE: 1996 07 14
SOURCE_IMAGE_ID: NAPP 9098 019
SOURCE_IMAGE_DATE: 1996 07 14
SOURCE_IMAGE_ID: NAPP 9100 073
SOURCE_IMAGE_DATE: 1996 07 14
SOURCE_IMAGE_ID: NAPP 9100 071
SOURCE_IMAGE_DATE: 1996 07 14
SOURCE_DEM_DATE: 1966 00 00
AGENCY: WESTERN MAPPING CENTER (WMC)
PRODUCER: UNDEFINED
PRODUCTION_SYSTEM: GIS/MAGIC
COMPRESSION: UNDEFINED
STANDARD_VERSION: 1996 12
METADATA_DATE: 1999 06 14
DATA_FILE_SIZE: 44167680
BYTE_COUNT: 5751
