FILENAME: O4510753.NWS.1010347.tif
QUADRANGLE_NAME: WYOLA
QUADRANT: NW
WEST_LONGITUDE: -107 30 0.00000
EAST_LONGITUDE: -107 26 15.00000
NORTH_LATITUDE: 45 15 0.00000
SOUTH_LATITUDE: 45 11 15.00000
PRODUCTION_DATE: 1999 6 10
RASTER_ORDER: LEFT_RIGHT/TOP_BOTTOM
BAND_ORGANIZATION: SINGLE FILE
BAND_CONTENT: BLACK&WHITE
BAND_CONTENT: UNDEFINED
BAND_CONTENT: UNDEFINED
BITS_PER_PIXEL: 8
SAMPLES_AND_LINES: 5774 7699
HORIZONTAL_DATUM: NAD83
HORIZONTAL_COORDINATE_SYSTEM: UTM
COORDINATE_ZONE: 13
HORIZONTAL_UNITS: METERS
HORIZONTAL_RESOLUTION: 1.00000
SECONDARY_HORIZONTAL_DATUM: NAD27
XY_ORIGIN: 303253.00000 5014064.00000
SECONDARY_XY_ORIGIN: 303298.59700 5013849.10200
NATION: US
NATION: "SCIENCE
STATE: MT
NW_QUAD_CORNER_XY: 303820.95700 5013763.37500
NE_QUAD_CORNER_XY: 308725.41000 5013613.20300
SE_QUAD_CORNERY_XY: 308515.62200 5006670.01900
SW_QUAD_CORNER_XY: 303605.78300 5006820.19200
SECONDARY_NW_QUAD_XY: 303815.13400 5013546.05900
SECONDARY_NE_QUAD_XY: 308719.73300 5013395.88300
SECONDARY_SE_QUAD_XY: 308509.94600 5006452.75100
SECONDARY_SW_QUAD_XY: 303599.96200 5006602.92900
RMSE_XY: 1.30000
IMAGE_SOURCE: BLACK AND WHITE FILM
SOURCE_IMAGE_ID: NAPP 9133 192
SOURCE_IMAGE_DATE: 1996 08 08
SOURCE_IMAGE_ID: NAPP 9133 191
SOURCE_IMAGE_DATE: 1996 08 08
SOURCE_DEM_DATE: 1966 00 00
AGENCY: WESTERN MAPPING CENTER (WMC)
PRODUCER: UNDEFINED
PRODUCTION_SYSTEM: GIS/MAGIC
COMPRESSION: UNDEFINED
STANDARD_VERSION: 1996 12
METADATA_DATE: 1999 06 14
DATA_FILE_SIZE: 44459800
BYTE_COUNT: 5774
