FILENAME: O4510753.SWS.1010349.tif
QUADRANGLE_NAME: WYOLA
QUADRANT: SW
WEST_LONGITUDE: -107 30 0.00000
EAST_LONGITUDE: -107 26 15.00000
NORTH_LATITUDE: 45 11 15.00000
SOUTH_LATITUDE: 45 7 30.00000
PRODUCTION_DATE: 1999 6 2
RASTER_ORDER: LEFT_RIGHT/TOP_BOTTOM
BAND_ORGANIZATION: SINGLE FILE
BAND_CONTENT: BLACK&WHITE
BAND_CONTENT: UNDEFINED
BAND_CONTENT: UNDEFINED
BITS_PER_PIXEL: 8
SAMPLES_AND_LINES: 5779 7699
HORIZONTAL_DATUM: NAD83
HORIZONTAL_COORDINATE_SYSTEM: UTM
COORDINATE_ZONE: 13
HORIZONTAL_UNITS: METERS
HORIZONTAL_RESOLUTION: 1.00000
SECONDARY_HORIZONTAL_DATUM: NAD27
XY_ORIGIN: 303038.00000 5007121.00000
SECONDARY_XY_ORIGIN: 303083.52700 5006906.09300
NATION: US
NATION: "SCIENCE
STATE: MT
NW_QUAD_CORNER_XY: 303605.78300 5006820.19200
NE_QUAD_CORNER_XY: 308515.62200 5006670.01900
SE_QUAD_CORNERY_XY: 308306.06300 4999726.89700
SW_QUAD_CORNER_XY: 303390.84400 4999877.07200
SECONDARY_NW_QUAD_XY: 303599.96200 5006602.92900
SECONDARY_NE_QUAD_XY: 308509.94600 5006452.75100
SECONDARY_SE_QUAD_XY: 308300.38900 4999509.68200
SECONDARY_SW_QUAD_XY: 303385.02400 4999659.86200
RMSE_XY: 1.10000
IMAGE_SOURCE: BLACK AND WHITE FILM
SOURCE_IMAGE_ID: NAPP 9133 190
SOURCE_IMAGE_DATE: 1996 08 08
SOURCE_IMAGE_ID: NAPP 9133 189
SOURCE_IMAGE_DATE: 1996 08 08
SOURCE_IMAGE_ID: NAPP 9133 191
SOURCE_IMAGE_DATE: 1996 08 08
SOURCE_IMAGE_ID: NAPP 9133 180
SOURCE_IMAGE_DATE: 1996 08 08
SOURCE_DEM_DATE: 1966 00 00
AGENCY: WESTERN MAPPING CENTER (WMC)
PRODUCER: UNDEFINED
PRODUCTION_SYSTEM: GIS/MAGIC
COMPRESSION: UNDEFINED
STANDARD_VERSION: 1996 12
METADATA_DATE: 1999 06 14
DATA_FILE_SIZE: 44498300
BYTE_COUNT: 5779
