FILENAME: O4510752.NES.1008708.tif
QUADRANGLE_NAME: WILLOW CREEK DAM
QUADRANT: NE
WEST_LONGITUDE: -107 33 45.00000
EAST_LONGITUDE: -107 30 0.00000
NORTH_LATITUDE: 45 15 0.00000
SOUTH_LATITUDE: 45 11 15.00000
PRODUCTION_DATE: 1999 4 27
RASTER_ORDER: LEFT_RIGHT/TOP_BOTTOM
BAND_ORGANIZATION: SINGLE FILE
BAND_CONTENT: BLACK&WHITE
BAND_CONTENT: UNDEFINED
BAND_CONTENT: UNDEFINED
BITS_PER_PIXEL: 8
SAMPLES_AND_LINES: 5779 7703
HORIZONTAL_DATUM: NAD83
HORIZONTAL_COORDINATE_SYSTEM: UTM
COORDINATE_ZONE: 13
HORIZONTAL_UNITS: METERS
HORIZONTAL_RESOLUTION: 1.00000
SECONDARY_HORIZONTAL_DATUM: NAD27
XY_ORIGIN: 298343.00000 5014218.00000
SECONDARY_XY_ORIGIN: 298388.56700 5014003.13500
NATION: US
NATION: "SCIENCE
STATE: MT
NW_QUAD_CORNER_XY: 298916.50600 5013917.35300
NE_QUAD_CORNER_XY: 303820.95700 5013763.37500
SE_QUAD_CORNERY_XY: 303605.78300 5006820.19200
SW_QUAD_CORNER_XY: 298695.94500 5006974.17300
SECONDARY_NW_QUAD_XY: 298910.53700 5013700.04100
SECONDARY_NE_QUAD_XY: 303815.13400 5013546.05900
SECONDARY_SE_QUAD_XY: 303599.96200 5006602.92900
SECONDARY_SW_QUAD_XY: 298689.97800 5006756.91400
RMSE_XY: 1.70000
IMAGE_SOURCE: BLACK AND WHITE FILM
SOURCE_IMAGE_ID: NAPP 9135 084
SOURCE_IMAGE_DATE: 1996 08 19
SOURCE_IMAGE_ID: NAPP 9135 085
SOURCE_IMAGE_DATE: 1996 08 19
SOURCE_IMAGE_ID: NAPP 9135 082
SOURCE_IMAGE_DATE: 1996 08 19
SOURCE_DEM_DATE: 1968 00 00
AGENCY: WESTERN MAPPING CENTER (WMC)
PRODUCER: UNDEFINED
PRODUCTION_SYSTEM: GIS/MAGIC
COMPRESSION: UNDEFINED
STANDARD_VERSION: 1996 12
METADATA_DATE: 1999 06 02
DATA_FILE_SIZE: 44521416
BYTE_COUNT: 5779
