FILENAME: O4510752.SES.1008710.tif
QUADRANGLE_NAME: WILLOW CREEK DAM
QUADRANT: SE
WEST_LONGITUDE: -107 33 45.00000
EAST_LONGITUDE: -107 30 0.00000
NORTH_LATITUDE: 45 11 15.00000
SOUTH_LATITUDE: 45 7 30.00000
PRODUCTION_DATE: 1999 4 27
RASTER_ORDER: LEFT_RIGHT/TOP_BOTTOM
BAND_ORGANIZATION: SINGLE FILE
BAND_CONTENT: BLACK&WHITE
BAND_CONTENT: UNDEFINED
BAND_CONTENT: UNDEFINED
BITS_PER_PIXEL: 8
SAMPLES_AND_LINES: 5784 7703
HORIZONTAL_DATUM: NAD83
HORIZONTAL_COORDINATE_SYSTEM: UTM
COORDINATE_ZONE: 13
HORIZONTAL_UNITS: METERS
HORIZONTAL_RESOLUTION: 1.00000
SECONDARY_HORIZONTAL_DATUM: NAD27
XY_ORIGIN: 298123.00000 5007275.00000
SECONDARY_XY_ORIGIN: 298168.50600 5007060.12400
NATION: US
NATION: "SCIENCE
STATE: MT
NW_QUAD_CORNER_XY: 298695.94500 5006974.17300
NE_QUAD_CORNER_XY: 303605.78300 5006820.19200
SE_QUAD_CORNERY_XY: 303390.84400 4999877.07200
SW_QUAD_CORNER_XY: 298475.62600 5000031.05400
SECONDARY_NW_QUAD_XY: 298689.97800 5006756.91400
SECONDARY_NE_QUAD_XY: 303599.96200 5006602.92900
SECONDARY_SE_QUAD_XY: 303385.02400 4999659.86200
SECONDARY_SW_QUAD_XY: 298469.66000 4999813.84800
RMSE_XY: 2.10000
IMAGE_SOURCE: BLACK AND WHITE FILM
SOURCE_IMAGE_ID: NAPP 9135 086
SOURCE_IMAGE_DATE: 1996 08 19
SOURCE_IMAGE_ID: NAPP 9135 085
SOURCE_IMAGE_DATE: 1996 08 19
SOURCE_DEM_DATE: 1968 00 00
AGENCY: WESTERN MAPPING CENTER (WMC)
PRODUCER: UNDEFINED
PRODUCTION_SYSTEM: GIS/MAGIC
COMPRESSION: UNDEFINED
STANDARD_VERSION: 1996 12
METADATA_DATE: 1999 06 02
DATA_FILE_SIZE: 44559936
BYTE_COUNT: 5784
