FILENAME: O4510752.SWS.1008711.tif
QUADRANGLE_NAME: WILLOW CREEK DAM
QUADRANT: SW
WEST_LONGITUDE: -107 37 30.00000
EAST_LONGITUDE: -107 33 45.00000
NORTH_LATITUDE: 45 11 15.00000
SOUTH_LATITUDE: 45 7 30.00000
PRODUCTION_DATE: 1999 4 27
RASTER_ORDER: LEFT_RIGHT/TOP_BOTTOM
BAND_ORGANIZATION: SINGLE FILE
BAND_CONTENT: BLACK&WHITE
BAND_CONTENT: UNDEFINED
BAND_CONTENT: UNDEFINED
BITS_PER_PIXEL: 8
SAMPLES_AND_LINES: 5790 7706
HORIZONTAL_DATUM: NAD83
HORIZONTAL_COORDINATE_SYSTEM: UTM
COORDINATE_ZONE: 13
HORIZONTAL_UNITS: METERS
HORIZONTAL_RESOLUTION: 1.00000
SECONDARY_HORIZONTAL_DATUM: NAD27
XY_ORIGIN: 293207.00000 5007432.00000
SECONDARY_XY_ORIGIN: 293252.48700 5007217.15500
NATION: US
NATION: "SCIENCE
STATE: MT
NW_QUAD_CORNER_XY: 293786.10900 5007131.96000
NE_QUAD_CORNER_XY: 298695.94500 5006974.17300
SE_QUAD_CORNERY_XY: 298475.62600 5000031.05400
SW_QUAD_CORNER_XY: 293560.40800 5000188.84300
SECONDARY_NW_QUAD_XY: 293779.99600 5006914.70600
SECONDARY_NE_QUAD_XY: 298689.97800 5006756.91400
SECONDARY_SE_QUAD_XY: 298469.66000 4999813.84800
SECONDARY_SW_QUAD_XY: 293554.29700 4999971.64200
RMSE_XY: 2.00000
IMAGE_SOURCE: BLACK AND WHITE FILM
SOURCE_IMAGE_ID: NAPP 9155 019
SOURCE_IMAGE_DATE: 1997 08 30
SOURCE_IMAGE_ID: NAPP 9155 020
SOURCE_IMAGE_DATE: 1997 08 30
SOURCE_DEM_DATE: 1968 00 00
AGENCY: WESTERN MAPPING CENTER (WMC)
PRODUCER: UNDEFINED
PRODUCTION_SYSTEM: GIS/MAGIC
COMPRESSION: UNDEFINED
STANDARD_VERSION: 1996 12
METADATA_DATE: 1999 06 02
DATA_FILE_SIZE: 44623530
BYTE_COUNT: 5790
