FILENAME: O4510751.NES.1006804.tif
QUADRANGLE_NAME: DRY SOAP CREEK
QUADRANT: NE
WEST_LONGITUDE: -107 41 15.00000
EAST_LONGITUDE: -107 37 30.00000
NORTH_LATITUDE: 45 15 0.00000
SOUTH_LATITUDE: 45 11 15.00000
PRODUCTION_DATE: 1999 4 27
RASTER_ORDER: LEFT_RIGHT/TOP_BOTTOM
BAND_ORGANIZATION: SINGLE FILE
BAND_CONTENT: BLACK&WHITE
BAND_CONTENT: UNDEFINED
BAND_CONTENT: UNDEFINED
BITS_PER_PIXEL: 8
SAMPLES_AND_LINES: 5791 7710
HORIZONTAL_DATUM: NAD83
HORIZONTAL_COORDINATE_SYSTEM: UTM
COORDINATE_ZONE: 13
HORIZONTAL_UNITS: METERS
HORIZONTAL_RESOLUTION: 1.00000
SECONDARY_HORIZONTAL_DATUM: NAD27
XY_ORIGIN: 288523.00000 5014537.00000
SECONDARY_XY_ORIGIN: 288568.51300 5014322.20200
NATION: US
NATION: "SCIENCE
STATE: MT
NW_QUAD_CORNER_XY: 289107.60900 5014236.73000
NE_QUAD_CORNER_XY: 294012.05600 5014075.13800
SE_QUAD_CORNERY_XY: 293786.10900 5007131.96000
SW_QUAD_CORNER_XY: 288876.27400 5007293.55500
SECONDARY_NW_QUAD_XY: 289101.34900 5014019.42800
SECONDARY_NE_QUAD_XY: 294005.94200 5013857.83100
SECONDARY_SE_QUAD_XY: 293779.99600 5006914.70600
SECONDARY_SW_QUAD_XY: 288870.01600 5007076.30600
RMSE_XY: 1.20000
IMAGE_SOURCE: BLACK AND WHITE FILM
SOURCE_IMAGE_ID: NAPP 9139 013
SOURCE_IMAGE_DATE: 1996 08 26
SOURCE_IMAGE_ID: NAPP 9139 012
SOURCE_IMAGE_DATE: 1996 08 26
SOURCE_IMAGE_ID: NAPP 9139 014
SOURCE_IMAGE_DATE: 1996 08 26
SOURCE_DEM_DATE: 1968 00 00
AGENCY: WESTERN MAPPING CENTER (WMC)
PRODUCER: UNDEFINED
PRODUCTION_SYSTEM: GIS/MAGIC
COMPRESSION: UNDEFINED
STANDARD_VERSION: 1996 12
METADATA_DATE: 1999 05 18
DATA_FILE_SIZE: 44654401
BYTE_COUNT: 5791
