FILENAME: O4510750.NWS.1006669.tif
QUADRANGLE_NAME: LIMESTONE CANYON
QUADRANT: NW
WEST_LONGITUDE: -107 52 30.00000
EAST_LONGITUDE: -107 48 45.00000
NORTH_LATITUDE: 45 15 0.00000
SOUTH_LATITUDE: 45 11 15.00000
PRODUCTION_DATE: 1999 4 27
RASTER_ORDER: LEFT_RIGHT/TOP_BOTTOM
BAND_ORGANIZATION: SINGLE FILE
BAND_CONTENT: BLACK&WHITE
BAND_CONTENT: UNDEFINED
BAND_CONTENT: UNDEFINED
BITS_PER_PIXEL: 8
SAMPLES_AND_LINES: 5807 7722
HORIZONTAL_DATUM: NAD83
HORIZONTAL_COORDINATE_SYSTEM: UTM
COORDINATE_ZONE: 13
HORIZONTAL_UNITS: METERS
HORIZONTAL_RESOLUTION: 1.00000
SECONDARY_HORIZONTAL_DATUM: NAD27
XY_ORIGIN: 273793.00000 5015045.00000
SECONDARY_XY_ORIGIN: 273838.52100 5014830.29600
NATION: US
NATION: "SCIENCE
STATE: MT
NW_QUAD_CORNER_XY: 274394.27900 5014744.35600
NE_QUAD_CORNER_XY: 279298.72000 5014571.33900
SE_QUAD_CORNERY_XY: 279056.60900 5007628.16900
SW_QUAD_CORNER_XY: 274146.77900 5007801.18900
SECONDARY_NW_QUAD_XY: 274387.58200 5014527.06900
SECONDARY_NE_QUAD_XY: 279292.16900 5014354.04700
SECONDARY_SE_QUAD_XY: 279050.06000 5007410.92900
SECONDARY_SW_QUAD_XY: 274140.08400 5007583.95400
RMSE_XY: 1.30000
IMAGE_SOURCE: BLACK AND WHITE FILM
SOURCE_IMAGE_ID: NAPP 9139 103
SOURCE_IMAGE_DATE: 1996 08 26
SOURCE_IMAGE_ID: NAPP 9139 104
SOURCE_IMAGE_DATE: 1996 08 26
SOURCE_IMAGE_ID: NAPP 9139 102
SOURCE_IMAGE_DATE: 1996 08 26
SOURCE_DEM_DATE: 1969 00 00
AGENCY: WESTERN MAPPING CENTER (WMC)
PRODUCER: UNDEFINED
PRODUCTION_SYSTEM: GIS/MAGIC
COMPRESSION: UNDEFINED
STANDARD_VERSION: 1996 12
METADATA_DATE: 1999 05 18
DATA_FILE_SIZE: 44847461
BYTE_COUNT: 5807
