FILENAME: O4510750.SWS.1006673.tif
QUADRANGLE_NAME: LIMESTONE CANYON
QUADRANT: SW
WEST_LONGITUDE: -107 52 30.00000
EAST_LONGITUDE: -107 48 45.00000
NORTH_LATITUDE: 45 11 15.00000
SOUTH_LATITUDE: 45 7 30.00000
PRODUCTION_DATE: 1999 4 27
RASTER_ORDER: LEFT_RIGHT/TOP_BOTTOM
BAND_ORGANIZATION: SINGLE FILE
BAND_CONTENT: BLACK&WHITE
BAND_CONTENT: UNDEFINED
BAND_CONTENT: UNDEFINED
BITS_PER_PIXEL: 8
SAMPLES_AND_LINES: 5812 7722
HORIZONTAL_DATUM: NAD83
HORIZONTAL_COORDINATE_SYSTEM: UTM
COORDINATE_ZONE: 13
HORIZONTAL_UNITS: METERS
HORIZONTAL_RESOLUTION: 1.00000
SECONDARY_HORIZONTAL_DATUM: NAD27
XY_ORIGIN: 273546.00000 5008102.00000
SECONDARY_XY_ORIGIN: 273591.49000 5007887.32800
NATION: US
NATION: "SCIENCE
STATE: MT
NW_QUAD_CORNER_XY: 274146.77900 5007801.18900
NE_QUAD_CORNER_XY: 279056.60900 5007628.16900
SE_QUAD_CORNERY_XY: 278814.76200 5000685.05700
SW_QUAD_CORNER_XY: 273899.54800 5000858.07900
SECONDARY_NW_QUAD_XY: 274140.08400 5007583.95400
SECONDARY_NE_QUAD_XY: 279050.06000 5007410.92900
SECONDARY_SE_QUAD_XY: 278808.21400 5000467.87100
SECONDARY_SW_QUAD_XY: 273892.85500 5000640.89800
RMSE_XY: 1.80000
IMAGE_SOURCE: BLACK AND WHITE FILM
SOURCE_IMAGE_ID: NAPP 9139 105
SOURCE_IMAGE_DATE: 1996 08 26
SOURCE_IMAGE_ID: NAPP 9151 055
SOURCE_IMAGE_DATE: 1996 09 11
SOURCE_IMAGE_ID: NAPP 9139 104
SOURCE_IMAGE_DATE: 1996 08 26
SOURCE_DEM_DATE: 1969 00 00
AGENCY: WESTERN MAPPING CENTER (WMC)
PRODUCER: UNDEFINED
PRODUCTION_SYSTEM: GIS/MAGIC
COMPRESSION: UNDEFINED
STANDARD_VERSION: 1996 12
METADATA_DATE: 1999 05 18
DATA_FILE_SIZE: 44886076
BYTE_COUNT: 5812
