FILENAME: O4510749.NES.927715.tif
QUADRANGLE_NAME: PEYOTE POINT
QUADRANT: NE
WEST_LONGITUDE: -107 56 15.00000
EAST_LONGITUDE: -107 52 30.00000
NORTH_LATITUDE: 45 15 0.00000
SOUTH_LATITUDE: 45 11 15.00000
PRODUCTION_DATE: 1997 12 18
RASTER_ORDER: LEFT_RIGHT/TOP_BOTTOM
BAND_ORGANIZATION: SINGLE FILE
BAND_CONTENT: BLACK&WHITE
BAND_CONTENT: UNDEFINED
BAND_CONTENT: UNDEFINED
BITS_PER_PIXEL: 8
SAMPLES_AND_LINES: 5813 7726
HORIZONTAL_DATUM: NAD83
HORIZONTAL_COORDINATE_SYSTEM: UTM
COORDINATE_ZONE: 13
HORIZONTAL_UNITS: METERS
HORIZONTAL_RESOLUTION: 1.00000
SECONDARY_HORIZONTAL_DATUM: NAD27
XY_ORIGIN: 268884.00000 5015226.00000
SECONDARY_XY_ORIGIN: 268929.53000 5015011.31000
NATION: US
STATE: MT
NW_QUAD_CORNER_XY: 269489.90000 5014921.14000
NE_QUAD_CORNER_XY: 274394.34000 5014744.31000
SE_QUAD_CORNERY_XY: 274146.84000 5007801.15000
SW_QUAD_CORNER_XY: 269237.01000 5007977.98000
SECONDARY_NW_QUAD_XY: 269483.06000 5014703.86000
SECONDARY_NE_QUAD_XY: 274387.65000 5014527.03000
SECONDARY_SE_QUAD_XY: 274140.15000 5007583.91000
SECONDARY_SW_QUAD_XY: 269230.17000 5007760.75000
RMSE_XY: 2.80000
IMAGE_SOURCE: BLACK AND WHITE FILM
SOURCE_IMAGE_ID: NAPP 9139 117
SOURCE_IMAGE_DATE: 1996 8 26
SOURCE_IMAGE_ID: NAPP 9139 9151
SOURCE_IMAGE_DATE: 1996 8 26
SOURCE_IMAGE_ID: NAPP 9139 43
SOURCE_IMAGE_DATE: 1996 8 26
SOURCE_DEM_DATE: 1997 12 18
AGENCY: WESTERN MAPPING CENTER (WMC)
PRODUCER: USDA FS GEOMETRONICS SERVICE CENTER
PRODUCTION_SYSTEM: DV2.6.3 10/9OV2.4 5/95
COMPRESSION: UNDEFINED
STANDARD_VERSION: 1996 12
METADATA_DATE: 1998 6 26
DATA_FILE_SIZE: 44917051
BYTE_COUNT: 5813
