FILENAME: O4510749.NWS.927716.tif
QUADRANGLE_NAME: PEYOTE POINT
QUADRANT: NW
WEST_LONGITUDE: -108 0 0.00000
EAST_LONGITUDE: -107 56 15.00000
NORTH_LATITUDE: 45 15 0.00000
SOUTH_LATITUDE: 45 11 15.00000
PRODUCTION_DATE: 1997 12 18
RASTER_ORDER: LEFT_RIGHT/TOP_BOTTOM
BAND_ORGANIZATION: SINGLE FILE
BAND_CONTENT: BLACK&WHITE
BAND_CONTENT: UNDEFINED
BAND_CONTENT: UNDEFINED
BITS_PER_PIXEL: 8
SAMPLES_AND_LINES: 5817 7731
HORIZONTAL_DATUM: NAD83
HORIZONTAL_COORDINATE_SYSTEM: UTM
COORDINATE_ZONE: 13
HORIZONTAL_UNITS: METERS
HORIZONTAL_RESOLUTION: 1.00000
SECONDARY_HORIZONTAL_DATUM: NAD27
XY_ORIGIN: 263974.00000 5015407.00000
SECONDARY_XY_ORIGIN: 264019.55000 5015192.34000
NATION: US
STATE: MT
NW_QUAD_CORNER_XY: 264585.47000 5015101.78000
NE_QUAD_CORNER_XY: 269489.90000 5014921.14000
SE_QUAD_CORNERY_XY: 269237.01000 5007977.98000
SW_QUAD_CORNER_XY: 264327.19000 5008158.61000
SECONDARY_NW_QUAD_XY: 264578.48000 5014884.50000
SECONDARY_NE_QUAD_XY: 269483.06000 5014703.86000
SECONDARY_SE_QUAD_XY: 269230.17000 5007760.75000
SECONDARY_SW_QUAD_XY: 264320.20000 5007941.39000
RMSE_XY: 2.80000
IMAGE_SOURCE: BLACK AND WHITE FILM
SOURCE_IMAGE_ID: NAPP 9151 43
SOURCE_IMAGE_DATE: 1996 8 26
SOURCE_IMAGE_ID: NAPP 9151 45
SOURCE_IMAGE_DATE: 1996 8 26
SOURCE_IMAGE_ID: NAPP 9151 42
SOURCE_IMAGE_DATE: 1996 8 26
SOURCE_DEM_DATE: 1997 12 18
AGENCY: WESTERN MAPPING CENTER (WMC)
PRODUCER: USDA FS GEOMETRONICS SERVICE CENTER
PRODUCTION_SYSTEM: DV2.6.3 10/9OV2.4 5/95
COMPRESSION: UNDEFINED
STANDARD_VERSION: 1996 12
METADATA_DATE: 1998 6 26
DATA_FILE_SIZE: 44977044
BYTE_COUNT: 5817
