FILENAME: O4510749.SES.927717.tif
QUADRANGLE_NAME: PEYOTE POINT
QUADRANT: SE
WEST_LONGITUDE: -107 56 15.00000
EAST_LONGITUDE: -107 52 30.00000
NORTH_LATITUDE: 45 11 15.00000
SOUTH_LATITUDE: 45 7 30.00000
PRODUCTION_DATE: 1997 12 18
RASTER_ORDER: LEFT_RIGHT/TOP_BOTTOM
BAND_ORGANIZATION: SINGLE FILE
BAND_CONTENT: BLACK&WHITE
BAND_CONTENT: UNDEFINED
BAND_CONTENT: UNDEFINED
BITS_PER_PIXEL: 8
SAMPLES_AND_LINES: 5816 7725
HORIZONTAL_DATUM: NAD83
HORIZONTAL_COORDINATE_SYSTEM: UTM
COORDINATE_ZONE: 13
HORIZONTAL_UNITS: METERS
HORIZONTAL_RESOLUTION: 1.00000
SECONDARY_HORIZONTAL_DATUM: NAD27
XY_ORIGIN: 268631.00000 5008279.00000
SECONDARY_XY_ORIGIN: 268676.50700 5008064.37000
NATION: US
STATE: MT
NW_QUAD_CORNER_XY: 269236.95000 5007978.02000
NE_QUAD_CORNER_XY: 274146.78000 5007801.19000
SE_QUAD_CORNERY_XY: 273899.55000 5000858.08000
SW_QUAD_CORNER_XY: 268984.34000 5001034.91000
SECONDARY_NW_QUAD_XY: 269230.11000 5007760.79000
SECONDARY_NE_QUAD_XY: 274140.08000 5007583.95000
SECONDARY_SE_QUAD_XY: 273892.86000 5000640.90000
SECONDARY_SW_QUAD_XY: 268977.50000 5000817.73000
RMSE_XY: 2.80000
IMAGE_SOURCE: BLACK AND WHITE FILM
SOURCE_IMAGE_ID: NAPP 9139 115
SOURCE_IMAGE_DATE: 1996 8 26
SOURCE_DEM_DATE: 1997 12 18
AGENCY: WESTERN MAPPING CENTER (WMC)
PRODUCER: USDA FS GEOMETRONICS SERVICE CENTER
PRODUCTION_SYSTEM: DV2.6.3 10/9OV2.4 5/95
COMPRESSION: UNDEFINED
STANDARD_VERSION: 1996 12
METADATA_DATE: 1998 6 26
DATA_FILE_SIZE: 44934416
BYTE_COUNT: 5816
