FILENAME: O4510748.NES.1010776.tif
QUADRANGLE_NAME: SPRING CREEK RANCH
QUADRANT: NE
WEST_LONGITUDE: -107 3 45.00000
EAST_LONGITUDE: -107 0 0.00000
NORTH_LATITUDE: 45 22 30.00000
SOUTH_LATITUDE: 45 18 45.00000
PRODUCTION_DATE: 1999 6 10
RASTER_ORDER: LEFT_RIGHT/TOP_BOTTOM
BAND_ORGANIZATION: SINGLE FILE
BAND_CONTENT: BLACK&WHITE
BAND_CONTENT: UNDEFINED
BAND_CONTENT: UNDEFINED
BITS_PER_PIXEL: 8
SAMPLES_AND_LINES: 5724 7671
HORIZONTAL_DATUM: NAD83
HORIZONTAL_COORDINATE_SYSTEM: UTM
COORDINATE_ZONE: 13
HORIZONTAL_UNITS: METERS
HORIZONTAL_RESOLUTION: 1.00000
SECONDARY_HORIZONTAL_DATUM: NAD27
XY_ORIGIN: 337979.00000 5026979.00000
SECONDARY_XY_ORIGIN: 338023.13500 5026762.99900
NATION: US
NATION: "SCIENCE
STATE: MT
NW_QUAD_CORNER_XY: 338507.71200 5026678.68800
NE_QUAD_CORNER_XY: 343401.39400 5026555.15900
SE_QUAD_CORNERY_XY: 343228.91800 5019611.82700
SW_QUAD_CORNER_XY: 338329.84200 5019735.35900
SECONDARY_NW_QUAD_XY: 338502.90600 5026461.24100
SECONDARY_NE_QUAD_XY: 343396.73300 5026337.70800
SECONDARY_SE_QUAD_XY: 343224.25900 5019394.42700
SECONDARY_SW_QUAD_XY: 338325.03700 5019517.96200
RMSE_XY: 1.60000
IMAGE_SOURCE: BLACK AND WHITE FILM
SOURCE_IMAGE_ID: NAPP 9099 026
SOURCE_IMAGE_DATE: 1996 07 14
SOURCE_IMAGE_ID: NAPP 9122 019
SOURCE_IMAGE_DATE: 1996 09 11
SOURCE_IMAGE_ID: NAPP 9122 017
SOURCE_IMAGE_DATE: 1996 09 11
SOURCE_IMAGE_ID: NAPP 9099 024
SOURCE_IMAGE_DATE: 1996 07 14
SOURCE_IMAGE_ID: NAPP 9099 025
SOURCE_IMAGE_DATE: 1996 07 14
SOURCE_DEM_DATE: 1966 00 00
AGENCY: WESTERN MAPPING CENTER (WMC)
PRODUCER: UNDEFINED
PRODUCTION_SYSTEM: GIS/MAGIC
COMPRESSION: UNDEFINED
STANDARD_VERSION: 1996 12
METADATA_DATE: 1999 06 15
DATA_FILE_SIZE: 43914528
BYTE_COUNT: 5724
