FILENAME: O4510747.SES.1010766.tif
QUADRANGLE_NAME: WOLF MOUNTAIN LOOKOUT
QUADRANT: SE
WEST_LONGITUDE: -107 11 15.00000
EAST_LONGITUDE: -107 7 30.00000
NORTH_LATITUDE: 45 18 45.00000
SOUTH_LATITUDE: 45 15 0.00000
PRODUCTION_DATE: 1999 6 10
RASTER_ORDER: LEFT_RIGHT/TOP_BOTTOM
BAND_ORGANIZATION: SINGLE FILE
BAND_CONTENT: BLACK&WHITE
BAND_CONTENT: UNDEFINED
BAND_CONTENT: UNDEFINED
BITS_PER_PIXEL: 8
SAMPLES_AND_LINES: 5741 7679
HORIZONTAL_DATUM: NAD83
HORIZONTAL_COORDINATE_SYSTEM: UTM
COORDINATE_ZONE: 13
HORIZONTAL_UNITS: METERS
HORIZONTAL_RESOLUTION: 1.00000
SECONDARY_HORIZONTAL_DATUM: NAD27
XY_ORIGIN: 327991.00000 5020294.00000
SECONDARY_XY_ORIGIN: 328035.92300 5020078.53500
NATION: US
NATION: "SCIENCE
STATE: MT
NW_QUAD_CORNER_XY: 328531.69500 5019993.83600
NE_QUAD_CORNER_XY: 333430.76800 5019862.69500
SE_QUAD_CORNERY_XY: 333247.70200 5012919.43400
SW_QUAD_CORNER_XY: 328343.24100 5013050.57800
SECONDARY_NW_QUAD_XY: 328526.59900 5019776.44700
SECONDARY_NE_QUAD_XY: 333425.81700 5019645.30200
SECONDARY_SE_QUAD_XY: 333242.75300 5012702.09300
SECONDARY_SW_QUAD_XY: 328338.14600 5012833.24000
RMSE_XY: 1.90000
IMAGE_SOURCE: BLACK AND WHITE FILM
SOURCE_IMAGE_ID: NAPP 9100 068
SOURCE_IMAGE_DATE: 1996 07 14
SOURCE_IMAGE_ID: NAPP 9100 069
SOURCE_IMAGE_DATE: 1996 07 14
SOURCE_IMAGE_ID: NAPP 9100 067
SOURCE_IMAGE_DATE: 1996 07 14
SOURCE_DEM_DATE: 1966 00 00
AGENCY: WESTERN MAPPING CENTER (WMC)
PRODUCER: UNDEFINED
PRODUCTION_SYSTEM: GIS/MAGIC
COMPRESSION: UNDEFINED
STANDARD_VERSION: 1996 12
METADATA_DATE: 1999 06 15
DATA_FILE_SIZE: 44090880
BYTE_COUNT: 5741
